BEGIN:VCALENDAR
VERSION:2.0
PRODID:-//Love INC of Treasure Valley - ECPv6.15.15//NONSGML v1.0//EN
CALSCALE:GREGORIAN
METHOD:PUBLISH
X-ORIGINAL-URL:https://loveinctv.org
X-WR-CALDESC:Events for Love INC of Treasure Valley
REFRESH-INTERVAL;VALUE=DURATION:PT1H
X-Robots-Tag:noindex
X-PUBLISHED-TTL:PT1H
BEGIN:VTIMEZONE
TZID:America/Boise
BEGIN:DAYLIGHT
TZOFFSETFROM:-0700
TZOFFSETTO:-0600
TZNAME:MDT
DTSTART:20240310T090000
END:DAYLIGHT
BEGIN:STANDARD
TZOFFSETFROM:-0600
TZOFFSETTO:-0700
TZNAME:MST
DTSTART:20241103T080000
END:STANDARD
BEGIN:DAYLIGHT
TZOFFSETFROM:-0700
TZOFFSETTO:-0600
TZNAME:MDT
DTSTART:20250309T090000
END:DAYLIGHT
BEGIN:STANDARD
TZOFFSETFROM:-0600
TZOFFSETTO:-0700
TZNAME:MST
DTSTART:20251102T080000
END:STANDARD
BEGIN:DAYLIGHT
TZOFFSETFROM:-0700
TZOFFSETTO:-0600
TZNAME:MDT
DTSTART:20260308T090000
END:DAYLIGHT
BEGIN:STANDARD
TZOFFSETFROM:-0600
TZOFFSETTO:-0700
TZNAME:MST
DTSTART:20261101T080000
END:STANDARD
END:VTIMEZONE
BEGIN:VEVENT
DTSTART;VALUE=DATE:20250901
DTEND;VALUE=DATE:20250902
DTSTAMP:20260425T194902
CREATED:20250807T185511Z
LAST-MODIFIED:20250807T185511Z
UID:19996-1756684800-1756771199@loveinctv.org
SUMMARY:Labor Day
DESCRIPTION:The Love INC Office will be CLOSED on Monday\, September 1. The Grace Place and Donation Center will be OPEN their regular hours so stop by and see us: Donation Center:  9am – 4pm\, The Grace Place: 10am – 5pm
URL:https://loveinctv.org/event/labor-day-2/
LOCATION:Idaho
ATTACH;FMTTYPE=image/png:https://loveinctv.org/wp-content/uploads/2025/08/Labor-Day-2025.png
END:VEVENT
END:VCALENDAR