BEGIN:VCALENDAR
VERSION:2.0
PRODID:-//Love INC of Treasure Valley - ECPv6.15.15//NONSGML v1.0//EN
CALSCALE:GREGORIAN
METHOD:PUBLISH
X-ORIGINAL-URL:https://loveinctv.org
X-WR-CALDESC:Events for Love INC of Treasure Valley
REFRESH-INTERVAL;VALUE=DURATION:PT1H
X-Robots-Tag:noindex
X-PUBLISHED-TTL:PT1H
BEGIN:VTIMEZONE
TZID:America/Boise
BEGIN:DAYLIGHT
TZOFFSETFROM:-0700
TZOFFSETTO:-0600
TZNAME:MDT
DTSTART:20240310T090000
END:DAYLIGHT
BEGIN:STANDARD
TZOFFSETFROM:-0600
TZOFFSETTO:-0700
TZNAME:MST
DTSTART:20241103T080000
END:STANDARD
BEGIN:DAYLIGHT
TZOFFSETFROM:-0700
TZOFFSETTO:-0600
TZNAME:MDT
DTSTART:20250309T090000
END:DAYLIGHT
BEGIN:STANDARD
TZOFFSETFROM:-0600
TZOFFSETTO:-0700
TZNAME:MST
DTSTART:20251102T080000
END:STANDARD
BEGIN:DAYLIGHT
TZOFFSETFROM:-0700
TZOFFSETTO:-0600
TZNAME:MDT
DTSTART:20260308T090000
END:DAYLIGHT
BEGIN:STANDARD
TZOFFSETFROM:-0600
TZOFFSETTO:-0700
TZNAME:MST
DTSTART:20261101T080000
END:STANDARD
END:VTIMEZONE
BEGIN:VEVENT
DTSTART;TZID=America/Boise:20250909T190000
DTEND;TZID=America/Boise:20250909T200000
DTSTAMP:20260425T094624
CREATED:20250827T160609Z
LAST-MODIFIED:20250827T160711Z
UID:20046-1757444400-1757448000@loveinctv.org
SUMMARY:Summer Worship Nights
DESCRIPTION:You’re invited to join us for a special Summer Worship Night on Tuesday\, September 9\, from 7-8 p.m. at the New Hope Community Center! Bring your lawn chair or blanket and come enjoy an uplifting evening of worship and connection as we gather together in praise with music led by Jordan Freiburghaus from Crossroads Chruch Nampa. It’s a beautiful way to refocus and be refreshed in the middle of the summer season. All are welcome!
URL:https://loveinctv.org/event/summer-worship-nights-2/
LOCATION:New Hope Community Center\, 7921 N. Selah Lane\, Nampa\, ID\, 83687\, United States
ATTACH;FMTTYPE=image/png:https://loveinctv.org/wp-content/uploads/2025/08/September-e1756310684795.png
END:VEVENT
END:VCALENDAR