BEGIN:VCALENDAR
VERSION:2.0
PRODID:-//Love INC of Treasure Valley - ECPv6.15.15//NONSGML v1.0//EN
CALSCALE:GREGORIAN
METHOD:PUBLISH
X-ORIGINAL-URL:https://loveinctv.org
X-WR-CALDESC:Events for Love INC of Treasure Valley
REFRESH-INTERVAL;VALUE=DURATION:PT1H
X-Robots-Tag:noindex
X-PUBLISHED-TTL:PT1H
BEGIN:VTIMEZONE
TZID:America/Boise
BEGIN:DAYLIGHT
TZOFFSETFROM:-0700
TZOFFSETTO:-0600
TZNAME:MDT
DTSTART:20240310T090000
END:DAYLIGHT
BEGIN:STANDARD
TZOFFSETFROM:-0600
TZOFFSETTO:-0700
TZNAME:MST
DTSTART:20241103T080000
END:STANDARD
BEGIN:DAYLIGHT
TZOFFSETFROM:-0700
TZOFFSETTO:-0600
TZNAME:MDT
DTSTART:20250309T090000
END:DAYLIGHT
BEGIN:STANDARD
TZOFFSETFROM:-0600
TZOFFSETTO:-0700
TZNAME:MST
DTSTART:20251102T080000
END:STANDARD
BEGIN:DAYLIGHT
TZOFFSETFROM:-0700
TZOFFSETTO:-0600
TZNAME:MDT
DTSTART:20260308T090000
END:DAYLIGHT
BEGIN:STANDARD
TZOFFSETFROM:-0600
TZOFFSETTO:-0700
TZNAME:MST
DTSTART:20261101T080000
END:STANDARD
END:VTIMEZONE
BEGIN:VEVENT
DTSTART;TZID=America/Boise:20251003T123000
DTEND;TZID=America/Boise:20251003T140000
DTSTAMP:20260425T081552
CREATED:20250826T194502Z
LAST-MODIFIED:20250826T194502Z
UID:20044-1759494600-1759500000@loveinctv.org
SUMMARY:Card Making Group
DESCRIPTION:Join our crafters each month to create beautiful\, handmade cards that are used in the ministry. All supplies are provided—just bring your creativity and enjoy a time of fellowship while making a difference!
URL:https://loveinctv.org/event/card-making-group-2/
LOCATION:Love INC of Treasure Valley\, 16470 N. Franklin Blvd\, Nampa\, Idaho\, 83687
ATTACH;FMTTYPE=image/jpeg:https://loveinctv.org/wp-content/uploads/2025/02/AdobeStock_110402835.jpeg
END:VEVENT
END:VCALENDAR