BEGIN:VCALENDAR
VERSION:2.0
PRODID:-//Love INC of Treasure Valley - ECPv6.15.15//NONSGML v1.0//EN
CALSCALE:GREGORIAN
METHOD:PUBLISH
X-ORIGINAL-URL:https://loveinctv.org
X-WR-CALDESC:Events for Love INC of Treasure Valley
REFRESH-INTERVAL;VALUE=DURATION:PT1H
X-Robots-Tag:noindex
X-PUBLISHED-TTL:PT1H
BEGIN:VTIMEZONE
TZID:America/Boise
BEGIN:DAYLIGHT
TZOFFSETFROM:-0700
TZOFFSETTO:-0600
TZNAME:MDT
DTSTART:20250309T090000
END:DAYLIGHT
BEGIN:STANDARD
TZOFFSETFROM:-0600
TZOFFSETTO:-0700
TZNAME:MST
DTSTART:20251102T080000
END:STANDARD
BEGIN:DAYLIGHT
TZOFFSETFROM:-0700
TZOFFSETTO:-0600
TZNAME:MDT
DTSTART:20260308T090000
END:DAYLIGHT
BEGIN:STANDARD
TZOFFSETFROM:-0600
TZOFFSETTO:-0700
TZNAME:MST
DTSTART:20261101T080000
END:STANDARD
BEGIN:DAYLIGHT
TZOFFSETFROM:-0700
TZOFFSETTO:-0600
TZNAME:MDT
DTSTART:20270314T090000
END:DAYLIGHT
BEGIN:STANDARD
TZOFFSETFROM:-0600
TZOFFSETTO:-0700
TZNAME:MST
DTSTART:20271107T080000
END:STANDARD
END:VTIMEZONE
BEGIN:VEVENT
DTSTART;TZID=America/Boise:20260423T100000
DTEND;TZID=America/Boise:20260423T111500
DTSTAMP:20260424T082638
CREATED:20260202T193711Z
LAST-MODIFIED:20260202T193711Z
UID:20570-1776938400-1776942900@loveinctv.org
SUMMARY:Ministry Overview
DESCRIPTION:Want to make a difference in your community by helping people in need? Looking for volunteer opportunities with lasting impact? Have a heart to do local mission work? If so\, we have weekly\, monthly\, and occasional positions available in a variety of different areas. Whether you like working with people\, product\, or administration — we can use you! \nThose who serve with Love INC of Treasure Valley come from local Christian churches and agree with the Statement of Faith. \nIf you have questions\, call (208) 466-7810 ext. 303. \nSign Up For A Ministry Overview
URL:https://loveinctv.org/event/ministry-overview-56/
LOCATION:Love INC of Treasure Valley\, 16470 N. Franklin Blvd\, Nampa\, Idaho\, 83687
ATTACH;FMTTYPE=image/jpeg:https://loveinctv.org/wp-content/uploads/2024/02/LoveINCTV_Events_Ministry-Overview.jpg
END:VEVENT
END:VCALENDAR