BEGIN:VCALENDAR
VERSION:2.0
PRODID:-//Love INC of Treasure Valley - ECPv6.15.15//NONSGML v1.0//EN
CALSCALE:GREGORIAN
METHOD:PUBLISH
X-WR-CALNAME:Love INC of Treasure Valley
X-ORIGINAL-URL:https://loveinctv.org
X-WR-CALDESC:Events for Love INC of Treasure Valley
REFRESH-INTERVAL;VALUE=DURATION:PT1H
X-Robots-Tag:noindex
X-PUBLISHED-TTL:PT1H
BEGIN:VTIMEZONE
TZID:America/Boise
BEGIN:DAYLIGHT
TZOFFSETFROM:-0700
TZOFFSETTO:-0600
TZNAME:MDT
DTSTART:20240310T090000
END:DAYLIGHT
BEGIN:STANDARD
TZOFFSETFROM:-0600
TZOFFSETTO:-0700
TZNAME:MST
DTSTART:20241103T080000
END:STANDARD
BEGIN:DAYLIGHT
TZOFFSETFROM:-0700
TZOFFSETTO:-0600
TZNAME:MDT
DTSTART:20250309T090000
END:DAYLIGHT
BEGIN:STANDARD
TZOFFSETFROM:-0600
TZOFFSETTO:-0700
TZNAME:MST
DTSTART:20251102T080000
END:STANDARD
BEGIN:DAYLIGHT
TZOFFSETFROM:-0700
TZOFFSETTO:-0600
TZNAME:MDT
DTSTART:20260308T090000
END:DAYLIGHT
BEGIN:STANDARD
TZOFFSETFROM:-0600
TZOFFSETTO:-0700
TZNAME:MST
DTSTART:20261101T080000
END:STANDARD
END:VTIMEZONE
BEGIN:VEVENT
DTSTART;TZID=America/Boise:20251213T100000
DTEND;TZID=America/Boise:20251213T111500
DTSTAMP:20260425T062836
CREATED:20251022T162625Z
LAST-MODIFIED:20251022T162625Z
UID:20217-1765620000-1765624500@loveinctv.org
SUMMARY:Ministry Overview
DESCRIPTION:Want to make a difference in your community by helping people in need? Looking for volunteer opportunities with lasting impact? Have a heart to do local mission work? If so\, we have weekly\, monthly\, and occasional positions available in a variety of different areas. Whether you like working with people\, product\, or administration — we can use you! \nThose who serve with Love INC of Treasure Valley come from local Christian churches and agree with the Statement of Faith. \nIf you have questions\, call (208) 466-7810 ext. 303. \nSign Up For A Ministry Overview
URL:https://loveinctv.org/event/ministry-overview-46/
LOCATION:Love INC of Treasure Valley\, 16470 N. Franklin Blvd\, Nampa\, Idaho\, 83687
ATTACH;FMTTYPE=image/jpeg:https://loveinctv.org/wp-content/uploads/2024/02/LoveINCTV_Events_Ministry-Overview.jpg
END:VEVENT
BEGIN:VEVENT
DTSTART;TZID=America/Boise:20251212T123000
DTEND;TZID=America/Boise:20251212T140000
DTSTAMP:20260425T062836
CREATED:20251112T193024Z
LAST-MODIFIED:20251112T193024Z
UID:20304-1765542600-1765548000@loveinctv.org
SUMMARY:Card Making Group
DESCRIPTION:Join our crafters each month to create beautiful\, handmade cards that are used in the ministry. All supplies are provided—just bring your creativity and enjoy a time of fellowship while making a difference!
URL:https://loveinctv.org/event/card-making-group-3/
LOCATION:Love INC of Treasure Valley\, 16470 N. Franklin Blvd\, Nampa\, Idaho\, 83687
ATTACH;FMTTYPE=image/jpeg:https://loveinctv.org/wp-content/uploads/2025/02/AdobeStock_110402835.jpeg
END:VEVENT
BEGIN:VEVENT
DTSTART;TZID=America/Boise:20251211T100000
DTEND;TZID=America/Boise:20251211T111500
DTSTAMP:20260425T062836
CREATED:20251022T162600Z
LAST-MODIFIED:20251022T162600Z
UID:20215-1765447200-1765451700@loveinctv.org
SUMMARY:Ministry Overview
DESCRIPTION:Want to make a difference in your community by helping people in need? Looking for volunteer opportunities with lasting impact? Have a heart to do local mission work? If so\, we have weekly\, monthly\, and occasional positions available in a variety of different areas. Whether you like working with people\, product\, or administration — we can use you! \nThose who serve with Love INC of Treasure Valley come from local Christian churches and agree with the Statement of Faith. \nIf you have questions\, call (208) 466-7810 ext. 303. \nSign Up For A Ministry Overview
URL:https://loveinctv.org/event/ministry-overview-45/
LOCATION:Love INC of Treasure Valley\, 16470 N. Franklin Blvd\, Nampa\, Idaho\, 83687
ATTACH;FMTTYPE=image/jpeg:https://loveinctv.org/wp-content/uploads/2024/02/LoveINCTV_Events_Ministry-Overview.jpg
END:VEVENT
BEGIN:VEVENT
DTSTART;TZID=America/Boise:20251206T100000
DTEND;TZID=America/Boise:20251206T140000
DTSTAMP:20260425T062836
CREATED:20250917T212052Z
LAST-MODIFIED:20250917T212052Z
UID:20099-1765015200-1765029600@loveinctv.org
SUMMARY:The Grace Place Sidewalk Sale
DESCRIPTION:Join us for big savings during our Sidewalk Sale weekend! \nFriday: 50% off all green-tagged itemsSaturday: 75% off all green-tagged items \nPlease Note: Due to limited space\, we are unable to accept donations on Sidewalk Sale weekends. Thank you for understanding!
URL:https://loveinctv.org/event/the-grace-place-sidewalk-sale-38/
LOCATION:The Grace Place Resale Shoppe\, 16436 N. Franklin Blvd\, Nampa\, ID\, 83687\, United States
ATTACH;FMTTYPE=image/jpeg:https://loveinctv.org/wp-content/uploads/2024/02/LoveINCTV_Events_The-Grace-Place-Sidewalk-Sale.jpg
END:VEVENT
BEGIN:VEVENT
DTSTART;TZID=America/Boise:20251205T100000
DTEND;TZID=America/Boise:20251205T160000
DTSTAMP:20260425T062836
CREATED:20250917T212038Z
LAST-MODIFIED:20250917T212038Z
UID:20098-1764928800-1764950400@loveinctv.org
SUMMARY:The Grace Place Sidewalk Sale
DESCRIPTION:Join us for big savings during our Sidewalk Sale weekend! \nFriday: 50% off all green-tagged itemsSaturday: 75% off all green-tagged items \nPlease Note: Due to limited space\, we are unable to accept donations on Sidewalk Sale weekends. Thank you for understanding!
URL:https://loveinctv.org/event/the-grace-place-sidewalk-sale-37/
LOCATION:The Grace Place Resale Shoppe\, 16436 N. Franklin Blvd\, Nampa\, ID\, 83687\, United States
ATTACH;FMTTYPE=image/jpeg:https://loveinctv.org/wp-content/uploads/2024/02/LoveINCTV_Events_The-Grace-Place-Sidewalk-Sale.jpg
END:VEVENT
BEGIN:VEVENT
DTSTART;TZID=America/Boise:20251201T130000
DTEND;TZID=America/Boise:20251201T141500
DTSTAMP:20260425T062836
CREATED:20251022T162159Z
LAST-MODIFIED:20251022T162159Z
UID:20209-1764594000-1764598500@loveinctv.org
SUMMARY:Ministry Overview
DESCRIPTION:Want to make a difference in your community by helping people in need? Looking for volunteer opportunities with lasting impact? Have a heart to do local mission work? If so\, we have weekly\, monthly\, and occasional positions available in a variety of different areas. Whether you like working with people\, product\, or administration — we can use you! \nThose who serve with Love INC of Treasure Valley come from local Christian churches and agree with the Statement of Faith. \nIf you have questions\, call (208) 466-7810 ext. 303. \nSign Up For A Ministry Overview
URL:https://loveinctv.org/event/ministry-overview-42/
LOCATION:Love INC of Treasure Valley\, 16470 N. Franklin Blvd\, Nampa\, Idaho\, 83687
ATTACH;FMTTYPE=image/jpeg:https://loveinctv.org/wp-content/uploads/2024/02/LoveINCTV_Events_Ministry-Overview.jpg
END:VEVENT
BEGIN:VEVENT
DTSTART;VALUE=DATE:20251127
DTEND;VALUE=DATE:20251130
DTSTAMP:20260425T062836
CREATED:20251029T192131Z
LAST-MODIFIED:20251029T192220Z
UID:20237-1764201600-1764460799@loveinctv.org
SUMMARY:Closure
DESCRIPTION:The Love INC Office\, Donation Center\, and The Grace Place will be CLOSED for Thanksgiving on November 27-29.
URL:https://loveinctv.org/event/closure-6/
LOCATION:Idaho
ATTACH;FMTTYPE=image/jpeg:https://loveinctv.org/wp-content/uploads/2024/10/Thanksgiving-Closure.jpg
END:VEVENT
BEGIN:VEVENT
DTSTART;TZID=America/Boise:20251113T100000
DTEND;TZID=America/Boise:20251113T111500
DTSTAMP:20260425T062836
CREATED:20251022T162324Z
LAST-MODIFIED:20251022T162324Z
UID:20213-1763028000-1763032500@loveinctv.org
SUMMARY:Ministry Overview
DESCRIPTION:Want to make a difference in your community by helping people in need? Looking for volunteer opportunities with lasting impact? Have a heart to do local mission work? If so\, we have weekly\, monthly\, and occasional positions available in a variety of different areas. Whether you like working with people\, product\, or administration — we can use you! \nThose who serve with Love INC of Treasure Valley come from local Christian churches and agree with the Statement of Faith. \nIf you have questions\, call (208) 466-7810 ext. 303. \nSign Up For A Ministry Overview
URL:https://loveinctv.org/event/ministry-overview-44/
LOCATION:Love INC of Treasure Valley\, 16470 N. Franklin Blvd\, Nampa\, Idaho\, 83687
ATTACH;FMTTYPE=image/jpeg:https://loveinctv.org/wp-content/uploads/2024/02/LoveINCTV_Events_Ministry-Overview.jpg
END:VEVENT
BEGIN:VEVENT
DTSTART;TZID=America/Boise:20251103T130000
DTEND;TZID=America/Boise:20251103T141500
DTSTAMP:20260425T062836
CREATED:20251022T162132Z
LAST-MODIFIED:20251022T162132Z
UID:20207-1762174800-1762179300@loveinctv.org
SUMMARY:Ministry Overview
DESCRIPTION:Want to make a difference in your community by helping people in need? Looking for volunteer opportunities with lasting impact? Have a heart to do local mission work? If so\, we have weekly\, monthly\, and occasional positions available in a variety of different areas. Whether you like working with people\, product\, or administration — we can use you! \nThose who serve with Love INC of Treasure Valley come from local Christian churches and agree with the Statement of Faith. \nIf you have questions\, call (208) 466-7810 ext. 303. \nSign Up For A Ministry Overview
URL:https://loveinctv.org/event/ministry-overview-38/
LOCATION:Love INC of Treasure Valley\, 16470 N. Franklin Blvd\, Nampa\, Idaho\, 83687
ATTACH;FMTTYPE=image/jpeg:https://loveinctv.org/wp-content/uploads/2024/02/LoveINCTV_Events_Ministry-Overview.jpg
END:VEVENT
BEGIN:VEVENT
DTSTART;TZID=America/Boise:20251101T100000
DTEND;TZID=America/Boise:20251101T111500
DTSTAMP:20260425T062836
CREATED:20251022T162255Z
LAST-MODIFIED:20251022T162255Z
UID:20211-1761991200-1761995700@loveinctv.org
SUMMARY:Ministry Overview
DESCRIPTION:Want to make a difference in your community by helping people in need? Looking for volunteer opportunities with lasting impact? Have a heart to do local mission work? If so\, we have weekly\, monthly\, and occasional positions available in a variety of different areas. Whether you like working with people\, product\, or administration — we can use you! \nThose who serve with Love INC of Treasure Valley come from local Christian churches and agree with the Statement of Faith. \nIf you have questions\, call (208) 466-7810 ext. 303. \nSign Up For A Ministry Overview
URL:https://loveinctv.org/event/ministry-overview-43/
LOCATION:Love INC of Treasure Valley\, 16470 N. Franklin Blvd\, Nampa\, Idaho\, 83687
ATTACH;FMTTYPE=image/jpeg:https://loveinctv.org/wp-content/uploads/2024/02/LoveINCTV_Events_Ministry-Overview.jpg
END:VEVENT
BEGIN:VEVENT
DTSTART;TZID=America/Boise:20251030T190000
DTEND;TZID=America/Boise:20251030T200000
DTSTAMP:20260425T062836
CREATED:20250603T165532Z
LAST-MODIFIED:20250714T203145Z
UID:19770-1761850800-1761854400@loveinctv.org
SUMMARY:Celebration Night
DESCRIPTION:You’re invited to Celebration Night at the New Hope Program. Celebrate with us as New Hope graduates share their personal stories. Bring potential supporters or participants to experience what they can be a part of. \nFor more information\, call the Love INC office 208-466-7810 ext. 301
URL:https://loveinctv.org/event/celebration-night-7/
LOCATION:Crossroads Community Church\, 4170 E. Amity Ave\, Nampa\, ID\, 83687\, United States
ATTACH;FMTTYPE=image/jpeg:https://loveinctv.org/wp-content/uploads/2025/06/7-31-25-Celebration-Night-postcard-e1750960036990.jpg
END:VEVENT
BEGIN:VEVENT
DTSTART;TZID=America/Boise:20251027T130000
DTEND;TZID=America/Boise:20251027T141500
DTSTAMP:20260425T062836
CREATED:20250806T191736Z
LAST-MODIFIED:20250806T191736Z
UID:19990-1761570000-1761574500@loveinctv.org
SUMMARY:Ministry Overview
DESCRIPTION:Want to make a difference in your community by helping people in need? Looking for volunteer opportunities with lasting impact? Have a heart to do local mission work? If so\, we have weekly\, monthly\, and occasional positions available in a variety of different areas. Whether you like working with people\, product\, or administration — we can use you! \nThose who serve with Love INC of Treasure Valley come from local Christian churches and agree with the Statement of Faith. \nIf you have questions\, call (208) 466-7810 ext. 303. \nSign Up For A Ministry Overview
URL:https://loveinctv.org/event/ministry-overview-41/
LOCATION:Love INC of Treasure Valley\, 16470 N. Franklin Blvd\, Nampa\, Idaho\, 83687
ATTACH;FMTTYPE=image/jpeg:https://loveinctv.org/wp-content/uploads/2024/02/LoveINCTV_Events_Ministry-Overview.jpg
END:VEVENT
BEGIN:VEVENT
DTSTART;TZID=America/Boise:20251025T100000
DTEND;TZID=America/Boise:20251025T140000
DTSTAMP:20260425T062836
CREATED:20250807T184759Z
LAST-MODIFIED:20250917T211950Z
UID:19994-1761386400-1761400800@loveinctv.org
SUMMARY:The Grace Place Sidewalk Sale
DESCRIPTION:Join us for big savings during our Sidewalk Sale weekend! \nFriday: 50% off all green-tagged itemsSaturday: 75% off all green-tagged items \nPlease Note: Due to limited space\, we are unable to accept donations on Sidewalk Sale weekends. Thank you for understanding!
URL:https://loveinctv.org/event/the-grace-place-sidewalk-sale-36/
LOCATION:The Grace Place Resale Shoppe\, 16436 N. Franklin Blvd\, Nampa\, ID\, 83687\, United States
ATTACH;FMTTYPE=image/jpeg:https://loveinctv.org/wp-content/uploads/2024/02/LoveINCTV_Events_The-Grace-Place-Sidewalk-Sale.jpg
END:VEVENT
BEGIN:VEVENT
DTSTART;TZID=America/Boise:20251025T100000
DTEND;TZID=America/Boise:20251025T111500
DTSTAMP:20260425T062836
CREATED:20250806T191652Z
LAST-MODIFIED:20250806T191652Z
UID:19988-1761386400-1761390900@loveinctv.org
SUMMARY:Ministry Overview
DESCRIPTION:Want to make a difference in your community by helping people in need? Looking for volunteer opportunities with lasting impact? Have a heart to do local mission work? If so\, we have weekly\, monthly\, and occasional positions available in a variety of different areas. Whether you like working with people\, product\, or administration — we can use you! \nThose who serve with Love INC of Treasure Valley come from local Christian churches and agree with the Statement of Faith. \nIf you have questions\, call (208) 466-7810 ext. 303. \nSign Up For A Ministry Overview
URL:https://loveinctv.org/event/ministry-overview-40/
LOCATION:Love INC of Treasure Valley\, 16470 N. Franklin Blvd\, Nampa\, Idaho\, 83687
ATTACH;FMTTYPE=image/jpeg:https://loveinctv.org/wp-content/uploads/2024/02/LoveINCTV_Events_Ministry-Overview.jpg
END:VEVENT
BEGIN:VEVENT
DTSTART;TZID=America/Boise:20251024T100000
DTEND;TZID=America/Boise:20251024T160000
DTSTAMP:20260425T062836
CREATED:20250807T184723Z
LAST-MODIFIED:20250917T211931Z
UID:19992-1761300000-1761321600@loveinctv.org
SUMMARY:The Grace Place Sidewalk Sale
DESCRIPTION:Join us for big savings during our Sidewalk Sale weekend! \nFriday: 50% off all green-tagged itemsSaturday: 75% off all green-tagged items \nPlease Note: Due to limited space\, we are unable to accept donations on Sidewalk Sale weekends. Thank you for understanding!
URL:https://loveinctv.org/event/the-grace-place-sidewalk-sale-35/
LOCATION:The Grace Place Resale Shoppe\, 16436 N. Franklin Blvd\, Nampa\, ID\, 83687\, United States
ATTACH;FMTTYPE=image/jpeg:https://loveinctv.org/wp-content/uploads/2024/02/LoveINCTV_Events_The-Grace-Place-Sidewalk-Sale.jpg
END:VEVENT
BEGIN:VEVENT
DTSTART;TZID=America/Boise:20251017T183000
DTEND;TZID=America/Boise:20251017T210000
DTSTAMP:20260425T062836
CREATED:20250922T164917Z
LAST-MODIFIED:20251008T221600Z
UID:20105-1760725800-1760734800@loveinctv.org
SUMMARY:Annual Benefit Gala
DESCRIPTION:Join us for an unforgettable evening at the Annual Benefit Gala! Enjoy a gourmet dinner\, exciting live and silent auctions\, powerful client stories\, and vision casting for the future of Love INC of Treasure Valley. Seating is limited—secure your spot today and help us take the next step in expanding the New Hope Community. \nTime: Doors open at 5:45 p.m. | Dinner and Program begin at 6:30 p.m. \nLocation: Family Life Center at Karcher Church of the Nazarene\, Nampa\, ID \nFor tickets/sponsorships: https://loveincbenefit.maxgiving.bid/about-us \nFor online gala donations: https://loveincbenefit.maxgiving.bid/donations \nFor online auction: https://loveincbenefit.maxgiving.bid/items
URL:https://loveinctv.org/event/annual-benefit-gala/
LOCATION:Karcher Church Family Life Center\, 2515 W. Karcher Rd.\, Nampa\, ID\, 83651\, United States
ATTACH;FMTTYPE=image/png:https://loveinctv.org/wp-content/uploads/2025/09/Front-e1762815523971.png
END:VEVENT
BEGIN:VEVENT
DTSTART;TZID=America/Boise:20251017T130000
DTEND;TZID=America/Boise:20251017T170000
DTSTAMP:20260425T062836
CREATED:20251008T221244Z
LAST-MODIFIED:20251008T221244Z
UID:20164-1760706000-1760720400@loveinctv.org
SUMMARY:Early Closing for Annual Gala
DESCRIPTION:The Love INC Office\, The Grace Place\, and Donation Center will CLOSE EARLY at 1 p.m. on Friday\, October 17\, in preparation for our Annual Benefit Gala. Join the fun of our online auction. Thanks for your support!
URL:https://loveinctv.org/event/early-closing-for-annual-gala/
LOCATION:Idaho
ATTACH;FMTTYPE=image/jpeg:https://loveinctv.org/wp-content/uploads/2025/10/Gala-closure.jpg
END:VEVENT
BEGIN:VEVENT
DTSTART;TZID=America/Boise:20251009T100000
DTEND;TZID=America/Boise:20251009T111500
DTSTAMP:20260425T062836
CREATED:20250806T191619Z
LAST-MODIFIED:20250806T191619Z
UID:19986-1760004000-1760008500@loveinctv.org
SUMMARY:Ministry Overview
DESCRIPTION:Want to make a difference in your community by helping people in need? Looking for volunteer opportunities with lasting impact? Have a heart to do local mission work? If so\, we have weekly\, monthly\, and occasional positions available in a variety of different areas. Whether you like working with people\, product\, or administration — we can use you! \nThose who serve with Love INC of Treasure Valley come from local Christian churches and agree with the Statement of Faith. \nIf you have questions\, call (208) 466-7810 ext. 303. \nSign Up For A Ministry Overview
URL:https://loveinctv.org/event/ministry-overview-39/
LOCATION:Love INC of Treasure Valley\, 16470 N. Franklin Blvd\, Nampa\, Idaho\, 83687
ATTACH;FMTTYPE=image/jpeg:https://loveinctv.org/wp-content/uploads/2024/02/LoveINCTV_Events_Ministry-Overview.jpg
END:VEVENT
BEGIN:VEVENT
DTSTART;TZID=America/Boise:20251003T123000
DTEND;TZID=America/Boise:20251003T140000
DTSTAMP:20260425T062836
CREATED:20250826T194502Z
LAST-MODIFIED:20250826T194502Z
UID:20044-1759494600-1759500000@loveinctv.org
SUMMARY:Card Making Group
DESCRIPTION:Join our crafters each month to create beautiful\, handmade cards that are used in the ministry. All supplies are provided—just bring your creativity and enjoy a time of fellowship while making a difference!
URL:https://loveinctv.org/event/card-making-group-2/
LOCATION:Love INC of Treasure Valley\, 16470 N. Franklin Blvd\, Nampa\, Idaho\, 83687
ATTACH;FMTTYPE=image/jpeg:https://loveinctv.org/wp-content/uploads/2025/02/AdobeStock_110402835.jpeg
END:VEVENT
BEGIN:VEVENT
DTSTART;TZID=America/Boise:20250920T100000
DTEND;TZID=America/Boise:20250920T111500
DTSTAMP:20260425T062836
CREATED:20250806T191510Z
LAST-MODIFIED:20250806T191510Z
UID:19982-1758362400-1758366900@loveinctv.org
SUMMARY:Ministry Overview
DESCRIPTION:Want to make a difference in your community by helping people in need? Looking for volunteer opportunities with lasting impact? Have a heart to do local mission work? If so\, we have weekly\, monthly\, and occasional positions available in a variety of different areas. Whether you like working with people\, product\, or administration — we can use you! \nThose who serve with Love INC of Treasure Valley come from local Christian churches and agree with the Statement of Faith. \nIf you have questions\, call (208) 466-7810 ext. 303. \nSign Up For A Ministry Overview
URL:https://loveinctv.org/event/ministry-overview-37/
LOCATION:Love INC of Treasure Valley\, 16470 N. Franklin Blvd\, Nampa\, Idaho\, 83687
ATTACH;FMTTYPE=image/jpeg:https://loveinctv.org/wp-content/uploads/2024/02/LoveINCTV_Events_Ministry-Overview.jpg
END:VEVENT
BEGIN:VEVENT
DTSTART;TZID=America/Boise:20250913T100000
DTEND;TZID=America/Boise:20250913T140000
DTSTAMP:20260425T062836
CREATED:20250714T145015Z
LAST-MODIFIED:20250730T215413Z
UID:19909-1757757600-1757772000@loveinctv.org
SUMMARY:The Grace Place Sidewalk Sale
DESCRIPTION:Join us for big savings during our Sidewalk Sale weekend! \nFriday: 50% off all green-tagged itemsSaturday: 75% off all green-tagged items \nPlease Note: Due to limited space\, we are unable to accept donations on Sidewalk Sale weekends. Thank you for understanding!
URL:https://loveinctv.org/event/the-grace-place-sidewalk-sale-34/
LOCATION:The Grace Place Resale Shoppe\, 16436 N. Franklin Blvd\, Nampa\, ID\, 83687\, United States
ATTACH;FMTTYPE=image/jpeg:https://loveinctv.org/wp-content/uploads/2024/02/LoveINCTV_Events_The-Grace-Place-Sidewalk-Sale.jpg
END:VEVENT
BEGIN:VEVENT
DTSTART;TZID=America/Boise:20250912T100000
DTEND;TZID=America/Boise:20250912T160000
DTSTAMP:20260425T062836
CREATED:20250714T144946Z
LAST-MODIFIED:20250730T214542Z
UID:19907-1757671200-1757692800@loveinctv.org
SUMMARY:The Grace Place Sidewalk Sale
DESCRIPTION:Join us for big savings during our Sidewalk Sale weekend! \nFriday: 50% off all green-tagged itemsSaturday: 75% off all green-tagged items \nPlease Note: Due to limited space\, we are unable to accept donations on Sidewalk Sale weekends. Thank you for understanding!
URL:https://loveinctv.org/event/the-grace-place-sidewalk-sale-33/
LOCATION:The Grace Place Resale Shoppe\, 16436 N. Franklin Blvd\, Nampa\, ID\, 83687\, United States
ATTACH;FMTTYPE=image/jpeg:https://loveinctv.org/wp-content/uploads/2024/02/LoveINCTV_Events_The-Grace-Place-Sidewalk-Sale.jpg
END:VEVENT
BEGIN:VEVENT
DTSTART;TZID=America/Boise:20250909T190000
DTEND;TZID=America/Boise:20250909T200000
DTSTAMP:20260425T062836
CREATED:20250827T160609Z
LAST-MODIFIED:20250827T160711Z
UID:20046-1757444400-1757448000@loveinctv.org
SUMMARY:Summer Worship Nights
DESCRIPTION:You’re invited to join us for a special Summer Worship Night on Tuesday\, September 9\, from 7-8 p.m. at the New Hope Community Center! Bring your lawn chair or blanket and come enjoy an uplifting evening of worship and connection as we gather together in praise with music led by Jordan Freiburghaus from Crossroads Chruch Nampa. It’s a beautiful way to refocus and be refreshed in the middle of the summer season. All are welcome!
URL:https://loveinctv.org/event/summer-worship-nights-2/
LOCATION:New Hope Community Center\, 7921 N. Selah Lane\, Nampa\, ID\, 83687\, United States
ATTACH;FMTTYPE=image/png:https://loveinctv.org/wp-content/uploads/2025/08/September-e1756310684795.png
END:VEVENT
BEGIN:VEVENT
DTSTART;TZID=America/Boise:20250908T130000
DTEND;TZID=America/Boise:20250908T141500
DTSTAMP:20260425T062836
CREATED:20250806T191431Z
LAST-MODIFIED:20250806T191431Z
UID:19980-1757336400-1757340900@loveinctv.org
SUMMARY:Ministry Overview
DESCRIPTION:Want to make a difference in your community by helping people in need? Looking for volunteer opportunities with lasting impact? Have a heart to do local mission work? If so\, we have weekly\, monthly\, and occasional positions available in a variety of different areas. Whether you like working with people\, product\, or administration — we can use you! \nThose who serve with Love INC of Treasure Valley come from local Christian churches and agree with the Statement of Faith. \nIf you have questions\, call (208) 466-7810 ext. 303. \nSign Up For A Ministry Overview
URL:https://loveinctv.org/event/ministry-overview-36/
LOCATION:Love INC of Treasure Valley\, 16470 N. Franklin Blvd\, Nampa\, Idaho\, 83687
ATTACH;FMTTYPE=image/jpeg:https://loveinctv.org/wp-content/uploads/2024/02/LoveINCTV_Events_Ministry-Overview.jpg
END:VEVENT
BEGIN:VEVENT
DTSTART;TZID=America/Boise:20250905T123000
DTEND;TZID=America/Boise:20250905T140000
DTSTAMP:20260425T062836
CREATED:20250826T194418Z
LAST-MODIFIED:20250826T194418Z
UID:20042-1757075400-1757080800@loveinctv.org
SUMMARY:Card Making Group
DESCRIPTION:Join our crafters each month to create beautiful\, handmade cards that are used in the ministry. All supplies are provided—just bring your creativity and enjoy a time of fellowship while making a difference!
URL:https://loveinctv.org/event/card-making-group/
LOCATION:Love INC of Treasure Valley\, 16470 N. Franklin Blvd\, Nampa\, Idaho\, 83687
ATTACH;FMTTYPE=image/jpeg:https://loveinctv.org/wp-content/uploads/2025/02/AdobeStock_110402835.jpeg
END:VEVENT
BEGIN:VEVENT
DTSTART;VALUE=DATE:20250901
DTEND;VALUE=DATE:20250902
DTSTAMP:20260425T062836
CREATED:20250807T185511Z
LAST-MODIFIED:20250807T185511Z
UID:19996-1756684800-1756771199@loveinctv.org
SUMMARY:Labor Day
DESCRIPTION:The Love INC Office will be CLOSED on Monday\, September 1. The Grace Place and Donation Center will be OPEN their regular hours so stop by and see us: Donation Center:  9am – 4pm\, The Grace Place: 10am – 5pm
URL:https://loveinctv.org/event/labor-day-2/
LOCATION:Idaho
ATTACH;FMTTYPE=image/png:https://loveinctv.org/wp-content/uploads/2025/08/Labor-Day-2025.png
END:VEVENT
BEGIN:VEVENT
DTSTART;TZID=America/Boise:20250822T190000
DTEND;TZID=America/Boise:20250822T200000
DTSTAMP:20260425T062836
CREATED:20250804T185438Z
LAST-MODIFIED:20250804T190048Z
UID:19963-1755889200-1755892800@loveinctv.org
SUMMARY:Summer Worship Nights
DESCRIPTION:You’re invited to join us for a special Summer Worship Night on Friday\, August 22\, from 7-8 p.m. at the New Hope Community Center! Bring your lawn chair or blanket and come enjoy an uplifting evening of worship and connection as we gather together in praise with music led by Ryan and Sapphire Scott from Christian Faith Center. It’s a beautiful way to refocus and be refreshed in the middle of the summer season. All are welcome!
URL:https://loveinctv.org/event/summer-worship-nights-aug/
LOCATION:New Hope Community Center\, 7921 N. Selah Lane\, Nampa\, ID\, 83687\, United States
ATTACH;FMTTYPE=image/png:https://loveinctv.org/wp-content/uploads/2025/08/Summer-Worship-Nights-at-NHC-August-e1754334026586.png
END:VEVENT
BEGIN:VEVENT
DTSTART;TZID=America/Boise:20250822T123000
DTEND;TZID=America/Boise:20250822T140000
DTSTAMP:20260425T062836
CREATED:20250820T204909Z
LAST-MODIFIED:20250820T204909Z
UID:20024-1755865800-1755871200@loveinctv.org
SUMMARY:Card Making Group - 4th Friday of the Month
DESCRIPTION:Join our crafters each month to create beautiful\, handmade cards that are used in the ministry. All supplies are provided—just bring your creativity and enjoy a time of fellowship while making a difference!
URL:https://loveinctv.org/event/card-making-group-4th-friday-of-the-month-6/
LOCATION:Love INC of Treasure Valley\, 16470 N. Franklin Blvd\, Nampa\, Idaho\, 83687
ATTACH;FMTTYPE=image/jpeg:https://loveinctv.org/wp-content/uploads/2025/02/AdobeStock_110402835.jpeg
END:VEVENT
BEGIN:VEVENT
DTSTART;TZID=America/Boise:20250818T130000
DTEND;TZID=America/Boise:20250818T141500
DTSTAMP:20260425T062836
CREATED:20250616T200502Z
LAST-MODIFIED:20250616T200502Z
UID:19813-1755522000-1755526500@loveinctv.org
SUMMARY:Ministry Overview
DESCRIPTION:Want to make a difference in your community by helping people in need? Looking for volunteer opportunities with lasting impact? Have a heart to do local mission work? If so\, we have weekly\, monthly\, and occasional positions available in a variety of different areas. Whether you like working with people\, product\, or administration — we can use you! \nThose who serve with Love INC of Treasure Valley come from local Christian churches and agree with the Statement of Faith. \nIf you have questions\, call (208) 466-7810 ext. 303. \nSign Up For A Ministry Overview
URL:https://loveinctv.org/event/ministry-overview-35/
LOCATION:Love INC of Treasure Valley\, 16470 N. Franklin Blvd\, Nampa\, Idaho\, 83687
ATTACH;FMTTYPE=image/jpeg:https://loveinctv.org/wp-content/uploads/2024/02/LoveINCTV_Events_Ministry-Overview.jpg
END:VEVENT
BEGIN:VEVENT
DTSTART;TZID=America/Boise:20250816T100000
DTEND;TZID=America/Boise:20250816T140000
DTSTAMP:20260425T062836
CREATED:20250714T144745Z
LAST-MODIFIED:20250730T214523Z
UID:19905-1755338400-1755352800@loveinctv.org
SUMMARY:The Grace Place Sidewalk Sale
DESCRIPTION:Join us for big savings during our Sidewalk Sale weekend! \nFriday: 50% off all green-tagged itemsSaturday: 75% off all green-tagged items \nPlease Note: Due to limited space\, we are unable to accept donations on Sidewalk Sale weekends. Thank you for understanding!
URL:https://loveinctv.org/event/the-grace-place-sidewalk-sale-32/
LOCATION:The Grace Place Resale Shoppe\, 16436 N. Franklin Blvd\, Nampa\, ID\, 83687\, United States
ATTACH;FMTTYPE=image/jpeg:https://loveinctv.org/wp-content/uploads/2024/02/LoveINCTV_Events_The-Grace-Place-Sidewalk-Sale.jpg
END:VEVENT
END:VCALENDAR