BEGIN:VCALENDAR
VERSION:2.0
PRODID:-//Love INC of Treasure Valley - ECPv6.15.15//NONSGML v1.0//EN
CALSCALE:GREGORIAN
METHOD:PUBLISH
X-ORIGINAL-URL:https://loveinctv.org
X-WR-CALDESC:Events for Love INC of Treasure Valley
REFRESH-INTERVAL;VALUE=DURATION:PT1H
X-Robots-Tag:noindex
X-PUBLISHED-TTL:PT1H
BEGIN:VTIMEZONE
TZID:America/Boise
BEGIN:DAYLIGHT
TZOFFSETFROM:-0700
TZOFFSETTO:-0600
TZNAME:MDT
DTSTART:20250309T090000
END:DAYLIGHT
BEGIN:STANDARD
TZOFFSETFROM:-0600
TZOFFSETTO:-0700
TZNAME:MST
DTSTART:20251102T080000
END:STANDARD
BEGIN:DAYLIGHT
TZOFFSETFROM:-0700
TZOFFSETTO:-0600
TZNAME:MDT
DTSTART:20260308T090000
END:DAYLIGHT
BEGIN:STANDARD
TZOFFSETFROM:-0600
TZOFFSETTO:-0700
TZNAME:MST
DTSTART:20261101T080000
END:STANDARD
BEGIN:DAYLIGHT
TZOFFSETFROM:-0700
TZOFFSETTO:-0600
TZNAME:MDT
DTSTART:20270314T090000
END:DAYLIGHT
BEGIN:STANDARD
TZOFFSETFROM:-0600
TZOFFSETTO:-0700
TZNAME:MST
DTSTART:20271107T080000
END:STANDARD
END:VTIMEZONE
BEGIN:VEVENT
DTSTART;TZID=America/Boise:20260116T100000
DTEND;TZID=America/Boise:20260116T160000
DTSTAMP:20260425T102830
CREATED:20251216T195528Z
LAST-MODIFIED:20251216T195528Z
UID:20437-1768557600-1768579200@loveinctv.org
SUMMARY:The Grace Place Sidewalk Sale
DESCRIPTION:Join us for big savings during our Sidewalk Sale weekend! \nFriday: 50% off all green-tagged itemsSaturday: 75% off all green-tagged items \nPlease Note: Due to limited space\, we are unable to accept donations on Sidewalk Sale weekends. Thank you for understanding!
URL:https://loveinctv.org/event/the-grace-place-sidewalk-sale-39/
LOCATION:The Grace Place Resale Shoppe\, 16436 N. Franklin Blvd\, Nampa\, ID\, 83687\, United States
ATTACH;FMTTYPE=image/jpeg:https://loveinctv.org/wp-content/uploads/2024/02/LoveINCTV_Events_The-Grace-Place-Sidewalk-Sale.jpg
END:VEVENT
BEGIN:VEVENT
DTSTART;TZID=America/Boise:20260117T100000
DTEND;TZID=America/Boise:20260117T140000
DTSTAMP:20260425T102830
CREATED:20251216T195623Z
LAST-MODIFIED:20251216T195623Z
UID:20439-1768644000-1768658400@loveinctv.org
SUMMARY:The Grace Place Sidewalk Sale
DESCRIPTION:Join us for big savings during our Sidewalk Sale weekend! \nFriday: 50% off all green-tagged itemsSaturday: 75% off all green-tagged items \nPlease Note: Due to limited space\, we are unable to accept donations on Sidewalk Sale weekends. Thank you for understanding!
URL:https://loveinctv.org/event/the-grace-place-sidewalk-sale-40/
LOCATION:The Grace Place Resale Shoppe\, 16436 N. Franklin Blvd\, Nampa\, ID\, 83687\, United States
ATTACH;FMTTYPE=image/jpeg:https://loveinctv.org/wp-content/uploads/2024/02/LoveINCTV_Events_The-Grace-Place-Sidewalk-Sale.jpg
END:VEVENT
BEGIN:VEVENT
DTSTART;TZID=America/Boise:20260124T100000
DTEND;TZID=America/Boise:20260124T111500
DTSTAMP:20260425T102830
CREATED:20251216T194324Z
LAST-MODIFIED:20251216T194324Z
UID:20421-1769248800-1769253300@loveinctv.org
SUMMARY:Ministry Overview
DESCRIPTION:Want to make a difference in your community by helping people in need? Looking for volunteer opportunities with lasting impact? Have a heart to do local mission work? If so\, we have weekly\, monthly\, and occasional positions available in a variety of different areas. Whether you like working with people\, product\, or administration — we can use you! \nThose who serve with Love INC of Treasure Valley come from local Christian churches and agree with the Statement of Faith. \nIf you have questions\, call (208) 466-7810 ext. 303. \nSign Up For A Ministry Overview
URL:https://loveinctv.org/event/ministry-overview-48/
LOCATION:Love INC of Treasure Valley\, 16470 N. Franklin Blvd\, Nampa\, Idaho\, 83687
ATTACH;FMTTYPE=image/jpeg:https://loveinctv.org/wp-content/uploads/2024/02/LoveINCTV_Events_Ministry-Overview.jpg
END:VEVENT
BEGIN:VEVENT
DTSTART;TZID=America/Boise:20260129T190000
DTEND;TZID=America/Boise:20260129T200000
DTSTAMP:20260425T102830
CREATED:20251216T200151Z
LAST-MODIFIED:20251216T200151Z
UID:20449-1769713200-1769716800@loveinctv.org
SUMMARY:Celebration Night
DESCRIPTION:You’re invited to Celebration Night at the New Hope Program. Celebrate with us as New Hope graduates share their personal stories. Bring potential supporters or participants to experience what they can be a part of. \nFor more information\, call the Love INC office 208-466-7810 ext. 301
URL:https://loveinctv.org/event/celebration-night-8/
LOCATION:Crossroads Community Church\, 4170 E. Amity Ave\, Nampa\, ID\, 83687\, United States
ATTACH;FMTTYPE=image/jpeg:https://loveinctv.org/wp-content/uploads/2025/06/7-31-25-Celebration-Night-postcard-e1750960036990.jpg
END:VEVENT
BEGIN:VEVENT
DTSTART;TZID=America/Boise:20260206T123000
DTEND;TZID=America/Boise:20260206T140000
DTSTAMP:20260425T102830
CREATED:20251216T195057Z
LAST-MODIFIED:20251216T195057Z
UID:20433-1770381000-1770386400@loveinctv.org
SUMMARY:Card Making Group
DESCRIPTION:Join our crafters each month to create beautiful\, handmade cards that are used in the ministry. All supplies are provided—just bring your creativity and enjoy a time of fellowship while making a difference!
URL:https://loveinctv.org/event/card-making-group-5/
LOCATION:Love INC of Treasure Valley\, 16470 N. Franklin Blvd\, Nampa\, Idaho\, 83687
ATTACH;FMTTYPE=image/jpeg:https://loveinctv.org/wp-content/uploads/2025/02/AdobeStock_110402835.jpeg
END:VEVENT
BEGIN:VEVENT
DTSTART;TZID=America/Boise:20260207T100000
DTEND;TZID=America/Boise:20260207T111500
DTSTAMP:20260425T102830
CREATED:20251216T194449Z
LAST-MODIFIED:20251216T194449Z
UID:20425-1770458400-1770462900@loveinctv.org
SUMMARY:Ministry Overview
DESCRIPTION:Want to make a difference in your community by helping people in need? Looking for volunteer opportunities with lasting impact? Have a heart to do local mission work? If so\, we have weekly\, monthly\, and occasional positions available in a variety of different areas. Whether you like working with people\, product\, or administration — we can use you! \nThose who serve with Love INC of Treasure Valley come from local Christian churches and agree with the Statement of Faith. \nIf you have questions\, call (208) 466-7810 ext. 303. \nSign Up For A Ministry Overview
URL:https://loveinctv.org/event/ministry-overview-50/
LOCATION:Love INC of Treasure Valley\, 16470 N. Franklin Blvd\, Nampa\, Idaho\, 83687
ATTACH;FMTTYPE=image/jpeg:https://loveinctv.org/wp-content/uploads/2024/02/LoveINCTV_Events_Ministry-Overview.jpg
END:VEVENT
BEGIN:VEVENT
DTSTART;TZID=America/Boise:20260212T100000
DTEND;TZID=America/Boise:20260212T111500
DTSTAMP:20260425T102830
CREATED:20251216T194522Z
LAST-MODIFIED:20251216T194522Z
UID:20427-1770890400-1770894900@loveinctv.org
SUMMARY:Ministry Overview
DESCRIPTION:Want to make a difference in your community by helping people in need? Looking for volunteer opportunities with lasting impact? Have a heart to do local mission work? If so\, we have weekly\, monthly\, and occasional positions available in a variety of different areas. Whether you like working with people\, product\, or administration — we can use you! \nThose who serve with Love INC of Treasure Valley come from local Christian churches and agree with the Statement of Faith. \nIf you have questions\, call (208) 466-7810 ext. 303. \nSign Up For A Ministry Overview
URL:https://loveinctv.org/event/ministry-overview-51/
LOCATION:Love INC of Treasure Valley\, 16470 N. Franklin Blvd\, Nampa\, Idaho\, 83687
ATTACH;FMTTYPE=image/jpeg:https://loveinctv.org/wp-content/uploads/2024/02/LoveINCTV_Events_Ministry-Overview.jpg
END:VEVENT
BEGIN:VEVENT
DTSTART;VALUE=DATE:20260216
DTEND;VALUE=DATE:20260217
DTSTAMP:20260425T102830
CREATED:20251216T201153Z
LAST-MODIFIED:20251216T201153Z
UID:20451-1771200000-1771286399@loveinctv.org
SUMMARY:Office Closed - Presidents' Day
DESCRIPTION:The Love INC Office will be CLOSED on Monday\, February 16. The Grace Place and Donation Center will be OPEN their regular hours so stop by and see us: Donation Center:  9am – 4pm\, The Grace Place: 10am – 5pm
URL:https://loveinctv.org/event/office-closed-presidents-day-2/
LOCATION:Idaho
ATTACH;FMTTYPE=image/jpeg:https://loveinctv.org/wp-content/uploads/2025/02/AdobeStock_404623259.jpeg
END:VEVENT
BEGIN:VEVENT
DTSTART;TZID=America/Boise:20260220T100000
DTEND;TZID=America/Boise:20260220T160000
DTSTAMP:20260425T102830
CREATED:20251216T195653Z
LAST-MODIFIED:20251216T195653Z
UID:20441-1771581600-1771603200@loveinctv.org
SUMMARY:The Grace Place Sidewalk Sale
DESCRIPTION:Join us for big savings during our Sidewalk Sale weekend! \nFriday: 50% off all green-tagged itemsSaturday: 75% off all green-tagged items \nPlease Note: Due to limited space\, we are unable to accept donations on Sidewalk Sale weekends. Thank you for understanding!
URL:https://loveinctv.org/event/the-grace-place-sidewalk-sale-41/
LOCATION:The Grace Place Resale Shoppe\, 16436 N. Franklin Blvd\, Nampa\, ID\, 83687\, United States
ATTACH;FMTTYPE=image/jpeg:https://loveinctv.org/wp-content/uploads/2024/02/LoveINCTV_Events_The-Grace-Place-Sidewalk-Sale.jpg
END:VEVENT
BEGIN:VEVENT
DTSTART;TZID=America/Boise:20260221T100000
DTEND;TZID=America/Boise:20260221T140000
DTSTAMP:20260425T102830
CREATED:20251216T195729Z
LAST-MODIFIED:20251216T195729Z
UID:20443-1771668000-1771682400@loveinctv.org
SUMMARY:The Grace Place Sidewalk Sale
DESCRIPTION:Join us for big savings during our Sidewalk Sale weekend! \nFriday: 50% off all green-tagged itemsSaturday: 75% off all green-tagged items \nPlease Note: Due to limited space\, we are unable to accept donations on Sidewalk Sale weekends. Thank you for understanding!
URL:https://loveinctv.org/event/the-grace-place-sidewalk-sale-42/
LOCATION:The Grace Place Resale Shoppe\, 16436 N. Franklin Blvd\, Nampa\, ID\, 83687\, United States
ATTACH;FMTTYPE=image/jpeg:https://loveinctv.org/wp-content/uploads/2024/02/LoveINCTV_Events_The-Grace-Place-Sidewalk-Sale.jpg
END:VEVENT
BEGIN:VEVENT
DTSTART;TZID=America/Boise:20260223T130000
DTEND;TZID=America/Boise:20260223T141500
DTSTAMP:20260425T102830
CREATED:20251216T194625Z
LAST-MODIFIED:20251216T194625Z
UID:20429-1771851600-1771856100@loveinctv.org
SUMMARY:Ministry Overview
DESCRIPTION:Want to make a difference in your community by helping people in need? Looking for volunteer opportunities with lasting impact? Have a heart to do local mission work? If so\, we have weekly\, monthly\, and occasional positions available in a variety of different areas. Whether you like working with people\, product\, or administration — we can use you! \nThose who serve with Love INC of Treasure Valley come from local Christian churches and agree with the Statement of Faith. \nIf you have questions\, call (208) 466-7810 ext. 303. \nSign Up For A Ministry Overview
URL:https://loveinctv.org/event/ministry-overview-52/
LOCATION:Love INC of Treasure Valley\, 16470 N. Franklin Blvd\, Nampa\, Idaho\, 83687
ATTACH;FMTTYPE=image/jpeg:https://loveinctv.org/wp-content/uploads/2024/02/LoveINCTV_Events_Ministry-Overview.jpg
END:VEVENT
BEGIN:VEVENT
DTSTART;TZID=America/Boise:20260306T123000
DTEND;TZID=America/Boise:20260306T140000
DTSTAMP:20260425T102830
CREATED:20251216T195123Z
LAST-MODIFIED:20251216T195123Z
UID:20435-1772800200-1772805600@loveinctv.org
SUMMARY:Card Making Group
DESCRIPTION:Join our crafters each month to create beautiful\, handmade cards that are used in the ministry. All supplies are provided—just bring your creativity and enjoy a time of fellowship while making a difference!
URL:https://loveinctv.org/event/card-making-group-6/
LOCATION:Love INC of Treasure Valley\, 16470 N. Franklin Blvd\, Nampa\, Idaho\, 83687
ATTACH;FMTTYPE=image/jpeg:https://loveinctv.org/wp-content/uploads/2025/02/AdobeStock_110402835.jpeg
END:VEVENT
BEGIN:VEVENT
DTSTART;TZID=America/Boise:20260307T100000
DTEND;TZID=America/Boise:20260307T111500
DTSTAMP:20260425T102830
CREATED:20260202T193537Z
LAST-MODIFIED:20260202T193537Z
UID:20564-1772877600-1772882100@loveinctv.org
SUMMARY:Ministry Overview
DESCRIPTION:Want to make a difference in your community by helping people in need? Looking for volunteer opportunities with lasting impact? Have a heart to do local mission work? If so\, we have weekly\, monthly\, and occasional positions available in a variety of different areas. Whether you like working with people\, product\, or administration — we can use you! \nThose who serve with Love INC of Treasure Valley come from local Christian churches and agree with the Statement of Faith. \nIf you have questions\, call (208) 466-7810 ext. 303. \nSign Up For A Ministry Overview
URL:https://loveinctv.org/event/ministry-overview-53/
LOCATION:Love INC of Treasure Valley\, 16470 N. Franklin Blvd\, Nampa\, Idaho\, 83687
ATTACH;FMTTYPE=image/jpeg:https://loveinctv.org/wp-content/uploads/2024/02/LoveINCTV_Events_Ministry-Overview.jpg
END:VEVENT
BEGIN:VEVENT
DTSTART;TZID=America/Boise:20260316T140000
DTEND;TZID=America/Boise:20260316T151500
DTSTAMP:20260425T102830
CREATED:20260202T193753Z
LAST-MODIFIED:20260223T164919Z
UID:20572-1773669600-1773674100@loveinctv.org
SUMMARY:Ministry Overview
DESCRIPTION:Want to make a difference in your community by helping people in need? Looking for volunteer opportunities with lasting impact? Have a heart to do local mission work? If so\, we have weekly\, monthly\, and occasional positions available in a variety of different areas. Whether you like working with people\, product\, or administration — we can use you! \nThose who serve with Love INC of Treasure Valley come from local Christian churches and agree with the Statement of Faith. \nIf you have questions\, call (208) 466-7810 ext. 303. \nSign Up For A Ministry Overview
URL:https://loveinctv.org/event/ministry-overview-57/
LOCATION:Love INC of Treasure Valley\, 16470 N. Franklin Blvd\, Nampa\, Idaho\, 83687
ATTACH;FMTTYPE=image/jpeg:https://loveinctv.org/wp-content/uploads/2024/02/LoveINCTV_Events_Ministry-Overview.jpg
END:VEVENT
BEGIN:VEVENT
DTSTART;TZID=America/Boise:20260326T100000
DTEND;TZID=America/Boise:20260326T111500
DTSTAMP:20260425T102830
CREATED:20260202T193618Z
LAST-MODIFIED:20260202T193618Z
UID:20566-1774519200-1774523700@loveinctv.org
SUMMARY:Ministry Overview
DESCRIPTION:Want to make a difference in your community by helping people in need? Looking for volunteer opportunities with lasting impact? Have a heart to do local mission work? If so\, we have weekly\, monthly\, and occasional positions available in a variety of different areas. Whether you like working with people\, product\, or administration — we can use you! \nThose who serve with Love INC of Treasure Valley come from local Christian churches and agree with the Statement of Faith. \nIf you have questions\, call (208) 466-7810 ext. 303. \nSign Up For A Ministry Overview
URL:https://loveinctv.org/event/ministry-overview-54/
LOCATION:Love INC of Treasure Valley\, 16470 N. Franklin Blvd\, Nampa\, Idaho\, 83687
ATTACH;FMTTYPE=image/jpeg:https://loveinctv.org/wp-content/uploads/2024/02/LoveINCTV_Events_Ministry-Overview.jpg
END:VEVENT
BEGIN:VEVENT
DTSTART;TZID=America/Boise:20260327T100000
DTEND;TZID=America/Boise:20260327T160000
DTSTAMP:20260425T102830
CREATED:20251216T195757Z
LAST-MODIFIED:20260120T174032Z
UID:20445-1774605600-1774627200@loveinctv.org
SUMMARY:The Grace Place Sidewalk Sale
DESCRIPTION:Join us for big savings during our Sidewalk Sale weekend! \nFriday: 50% off all green-tagged itemsSaturday: 75% off all green-tagged items \nPlease Note: Due to limited space\, we are unable to accept donations on Sidewalk Sale weekends. Thank you for understanding!
URL:https://loveinctv.org/event/the-grace-place-sidewalk-sale-43/
LOCATION:The Grace Place Resale Shoppe\, 16436 N. Franklin Blvd\, Nampa\, ID\, 83687\, United States
ATTACH;FMTTYPE=image/jpeg:https://loveinctv.org/wp-content/uploads/2024/02/LoveINCTV_Events_The-Grace-Place-Sidewalk-Sale.jpg
END:VEVENT
BEGIN:VEVENT
DTSTART;TZID=America/Boise:20260328T100000
DTEND;TZID=America/Boise:20260328T140000
DTSTAMP:20260425T102830
CREATED:20251216T195849Z
LAST-MODIFIED:20260120T174052Z
UID:20447-1774692000-1774706400@loveinctv.org
SUMMARY:The Grace Place Sidewalk Sale
DESCRIPTION:Join us for big savings during our Sidewalk Sale weekend! \nFriday: 50% off all green-tagged itemsSaturday: 75% off all green-tagged items \nPlease Note: Due to limited space\, we are unable to accept donations on Sidewalk Sale weekends. Thank you for understanding!
URL:https://loveinctv.org/event/the-grace-place-sidewalk-sale-44/
LOCATION:The Grace Place Resale Shoppe\, 16436 N. Franklin Blvd\, Nampa\, ID\, 83687\, United States
ATTACH;FMTTYPE=image/jpeg:https://loveinctv.org/wp-content/uploads/2024/02/LoveINCTV_Events_The-Grace-Place-Sidewalk-Sale.jpg
END:VEVENT
BEGIN:VEVENT
DTSTART;TZID=America/Boise:20260406T140000
DTEND;TZID=America/Boise:20260406T151500
DTSTAMP:20260425T102830
CREATED:20260202T193819Z
LAST-MODIFIED:20260223T164854Z
UID:20574-1775484000-1775488500@loveinctv.org
SUMMARY:Ministry Overview
DESCRIPTION:Want to make a difference in your community by helping people in need? Looking for volunteer opportunities with lasting impact? Have a heart to do local mission work? If so\, we have weekly\, monthly\, and occasional positions available in a variety of different areas. Whether you like working with people\, product\, or administration — we can use you! \nThose who serve with Love INC of Treasure Valley come from local Christian churches and agree with the Statement of Faith. \nIf you have questions\, call (208) 466-7810 ext. 303. \nSign Up For A Ministry Overview
URL:https://loveinctv.org/event/ministry-overview-58/
LOCATION:Love INC of Treasure Valley\, 16470 N. Franklin Blvd\, Nampa\, Idaho\, 83687
ATTACH;FMTTYPE=image/jpeg:https://loveinctv.org/wp-content/uploads/2024/02/LoveINCTV_Events_Ministry-Overview.jpg
END:VEVENT
BEGIN:VEVENT
DTSTART;TZID=America/Boise:20260410T123000
DTEND;TZID=America/Boise:20260410T140000
DTSTAMP:20260425T102830
CREATED:20260316T222314Z
LAST-MODIFIED:20260316T222314Z
UID:20699-1775824200-1775829600@loveinctv.org
SUMMARY:Card Making Group
DESCRIPTION:Join our crafters each month to create beautiful\, handmade cards that are used in the ministry. All supplies are provided—just bring your creativity and enjoy a time of fellowship while making a difference!
URL:https://loveinctv.org/event/card-making-group-7/
LOCATION:Love INC of Treasure Valley\, 16470 N. Franklin Blvd\, Nampa\, Idaho\, 83687
ATTACH;FMTTYPE=image/jpeg:https://loveinctv.org/wp-content/uploads/2025/02/AdobeStock_110402835.jpeg
END:VEVENT
BEGIN:VEVENT
DTSTART;TZID=America/Boise:20260418T100000
DTEND;TZID=America/Boise:20260418T111500
DTSTAMP:20260425T102830
CREATED:20260202T193647Z
LAST-MODIFIED:20260202T193647Z
UID:20568-1776506400-1776510900@loveinctv.org
SUMMARY:Ministry Overview
DESCRIPTION:Want to make a difference in your community by helping people in need? Looking for volunteer opportunities with lasting impact? Have a heart to do local mission work? If so\, we have weekly\, monthly\, and occasional positions available in a variety of different areas. Whether you like working with people\, product\, or administration — we can use you! \nThose who serve with Love INC of Treasure Valley come from local Christian churches and agree with the Statement of Faith. \nIf you have questions\, call (208) 466-7810 ext. 303. \nSign Up For A Ministry Overview
URL:https://loveinctv.org/event/ministry-overview-55/
LOCATION:Love INC of Treasure Valley\, 16470 N. Franklin Blvd\, Nampa\, Idaho\, 83687
ATTACH;FMTTYPE=image/jpeg:https://loveinctv.org/wp-content/uploads/2024/02/LoveINCTV_Events_Ministry-Overview.jpg
END:VEVENT
BEGIN:VEVENT
DTSTART;TZID=America/Boise:20260423T100000
DTEND;TZID=America/Boise:20260423T111500
DTSTAMP:20260425T102830
CREATED:20260202T193711Z
LAST-MODIFIED:20260202T193711Z
UID:20570-1776938400-1776942900@loveinctv.org
SUMMARY:Ministry Overview
DESCRIPTION:Want to make a difference in your community by helping people in need? Looking for volunteer opportunities with lasting impact? Have a heart to do local mission work? If so\, we have weekly\, monthly\, and occasional positions available in a variety of different areas. Whether you like working with people\, product\, or administration — we can use you! \nThose who serve with Love INC of Treasure Valley come from local Christian churches and agree with the Statement of Faith. \nIf you have questions\, call (208) 466-7810 ext. 303. \nSign Up For A Ministry Overview
URL:https://loveinctv.org/event/ministry-overview-56/
LOCATION:Love INC of Treasure Valley\, 16470 N. Franklin Blvd\, Nampa\, Idaho\, 83687
ATTACH;FMTTYPE=image/jpeg:https://loveinctv.org/wp-content/uploads/2024/02/LoveINCTV_Events_Ministry-Overview.jpg
END:VEVENT
BEGIN:VEVENT
DTSTART;TZID=America/Boise:20260424T100000
DTEND;TZID=America/Boise:20260424T160000
DTSTAMP:20260425T102830
CREATED:20260316T221852Z
LAST-MODIFIED:20260316T221852Z
UID:20689-1777024800-1777046400@loveinctv.org
SUMMARY:The Grace Place Sidewalk Sale
DESCRIPTION:Join us for big savings during our Sidewalk Sale weekend! \nFriday: 50% off all green-tagged itemsSaturday: 75% off all green-tagged items \nPlease Note: Due to limited space\, we are unable to accept donations on Sidewalk Sale weekends. Thank you for understanding!
URL:https://loveinctv.org/event/the-grace-place-sidewalk-sale-45/
LOCATION:The Grace Place Resale Shoppe\, 16436 N. Franklin Blvd\, Nampa\, ID\, 83687\, United States
ATTACH;FMTTYPE=image/jpeg:https://loveinctv.org/wp-content/uploads/2024/02/LoveINCTV_Events_The-Grace-Place-Sidewalk-Sale.jpg
END:VEVENT
BEGIN:VEVENT
DTSTART;TZID=America/Boise:20260425T100000
DTEND;TZID=America/Boise:20260425T140000
DTSTAMP:20260425T102830
CREATED:20260316T221927Z
LAST-MODIFIED:20260316T221927Z
UID:20691-1777111200-1777125600@loveinctv.org
SUMMARY:The Grace Place Sidewalk Sale
DESCRIPTION:Join us for big savings during our Sidewalk Sale weekend! \nFriday: 50% off all green-tagged itemsSaturday: 75% off all green-tagged items \nPlease Note: Due to limited space\, we are unable to accept donations on Sidewalk Sale weekends. Thank you for understanding!
URL:https://loveinctv.org/event/the-grace-place-sidewalk-sale-46/
LOCATION:The Grace Place Resale Shoppe\, 16436 N. Franklin Blvd\, Nampa\, ID\, 83687\, United States
ATTACH;FMTTYPE=image/jpeg:https://loveinctv.org/wp-content/uploads/2024/02/LoveINCTV_Events_The-Grace-Place-Sidewalk-Sale.jpg
END:VEVENT
BEGIN:VEVENT
DTSTART;TZID=America/Boise:20260430T190000
DTEND;TZID=America/Boise:20260430T200000
DTSTAMP:20260425T102830
CREATED:20260202T194102Z
LAST-MODIFIED:20260202T194102Z
UID:20576-1777575600-1777579200@loveinctv.org
SUMMARY:Celebration Night
DESCRIPTION:You’re invited to Celebration Night at the New Hope Program. Celebrate with us as New Hope graduates share their personal stories. Bring potential supporters or participants to experience what they can be a part of. \nFor more information\, call the Love INC office 208-466-7810 ext. 301
URL:https://loveinctv.org/event/celebration-night-9/
LOCATION:Crossroads Community Church\, 4170 E. Amity Ave\, Nampa\, ID\, 83687\, United States
ATTACH;FMTTYPE=image/jpeg:https://loveinctv.org/wp-content/uploads/2025/06/7-31-25-Celebration-Night-postcard-e1750960036990.jpg
END:VEVENT
BEGIN:VEVENT
DTSTART;TZID=America/Boise:20260504T140000
DTEND;TZID=America/Boise:20260504T151500
DTSTAMP:20260425T102830
CREATED:20260316T222123Z
LAST-MODIFIED:20260316T222123Z
UID:20697-1777903200-1777907700@loveinctv.org
SUMMARY:Ministry Overview
DESCRIPTION:Want to make a difference in your community by helping people in need? Looking for volunteer opportunities with lasting impact? Have a heart to do local mission work? If so\, we have weekly\, monthly\, and occasional positions available in a variety of different areas. Whether you like working with people\, product\, or administration — we can use you! \nThose who serve with Love INC of Treasure Valley come from local Christian churches and agree with the Statement of Faith. \nIf you have questions\, call (208) 466-7810 ext. 303. \nSign Up For A Ministry Overview
URL:https://loveinctv.org/event/ministry-overview-61/
LOCATION:Love INC of Treasure Valley\, 16470 N. Franklin Blvd\, Nampa\, Idaho\, 83687
ATTACH;FMTTYPE=image/jpeg:https://loveinctv.org/wp-content/uploads/2024/02/LoveINCTV_Events_Ministry-Overview.jpg
END:VEVENT
BEGIN:VEVENT
DTSTART;TZID=America/Boise:20260516T100000
DTEND;TZID=America/Boise:20260516T111500
DTSTAMP:20260425T102830
CREATED:20260316T222007Z
LAST-MODIFIED:20260316T222007Z
UID:20693-1778925600-1778930100@loveinctv.org
SUMMARY:Ministry Overview
DESCRIPTION:Want to make a difference in your community by helping people in need? Looking for volunteer opportunities with lasting impact? Have a heart to do local mission work? If so\, we have weekly\, monthly\, and occasional positions available in a variety of different areas. Whether you like working with people\, product\, or administration — we can use you! \nThose who serve with Love INC of Treasure Valley come from local Christian churches and agree with the Statement of Faith. \nIf you have questions\, call (208) 466-7810 ext. 303. \nSign Up For A Ministry Overview
URL:https://loveinctv.org/event/ministry-overview-59/
LOCATION:Love INC of Treasure Valley\, 16470 N. Franklin Blvd\, Nampa\, Idaho\, 83687
ATTACH;FMTTYPE=image/jpeg:https://loveinctv.org/wp-content/uploads/2024/02/LoveINCTV_Events_Ministry-Overview.jpg
END:VEVENT
BEGIN:VEVENT
DTSTART;TZID=America/Boise:20260521T100000
DTEND;TZID=America/Boise:20260521T111500
DTSTAMP:20260425T102830
CREATED:20260316T222034Z
LAST-MODIFIED:20260316T222034Z
UID:20695-1779357600-1779362100@loveinctv.org
SUMMARY:Ministry Overview
DESCRIPTION:Want to make a difference in your community by helping people in need? Looking for volunteer opportunities with lasting impact? Have a heart to do local mission work? If so\, we have weekly\, monthly\, and occasional positions available in a variety of different areas. Whether you like working with people\, product\, or administration — we can use you! \nThose who serve with Love INC of Treasure Valley come from local Christian churches and agree with the Statement of Faith. \nIf you have questions\, call (208) 466-7810 ext. 303. \nSign Up For A Ministry Overview
URL:https://loveinctv.org/event/ministry-overview-60/
LOCATION:Love INC of Treasure Valley\, 16470 N. Franklin Blvd\, Nampa\, Idaho\, 83687
ATTACH;FMTTYPE=image/jpeg:https://loveinctv.org/wp-content/uploads/2024/02/LoveINCTV_Events_Ministry-Overview.jpg
END:VEVENT
BEGIN:VEVENT
DTSTART;TZID=America/Boise:20260522T100000
DTEND;TZID=America/Boise:20260522T160000
DTSTAMP:20260425T102830
CREATED:20260406T201154Z
LAST-MODIFIED:20260406T201154Z
UID:20764-1779444000-1779465600@loveinctv.org
SUMMARY:The Grace Place Sidewalk Sale
DESCRIPTION:Join us for big savings during our Sidewalk Sale weekend! \nFriday: 50% off all green-tagged itemsSaturday: 75% off all green-tagged items \nPlease Note: Due to limited space\, we are unable to accept donations on Sidewalk Sale weekends. Thank you for understanding!
URL:https://loveinctv.org/event/the-grace-place-sidewalk-sale-47/
LOCATION:The Grace Place Resale Shoppe\, 16436 N. Franklin Blvd\, Nampa\, ID\, 83687\, United States
ATTACH;FMTTYPE=image/jpeg:https://loveinctv.org/wp-content/uploads/2024/02/LoveINCTV_Events_The-Grace-Place-Sidewalk-Sale.jpg
END:VEVENT
BEGIN:VEVENT
DTSTART;TZID=America/Boise:20260523T100000
DTEND;TZID=America/Boise:20260523T140000
DTSTAMP:20260425T102830
CREATED:20260406T201223Z
LAST-MODIFIED:20260406T201223Z
UID:20766-1779530400-1779544800@loveinctv.org
SUMMARY:The Grace Place Sidewalk Sale
DESCRIPTION:Join us for big savings during our Sidewalk Sale weekend! \nFriday: 50% off all green-tagged itemsSaturday: 75% off all green-tagged items \nPlease Note: Due to limited space\, we are unable to accept donations on Sidewalk Sale weekends. Thank you for understanding!
URL:https://loveinctv.org/event/the-grace-place-sidewalk-sale-48/
LOCATION:The Grace Place Resale Shoppe\, 16436 N. Franklin Blvd\, Nampa\, ID\, 83687\, United States
ATTACH;FMTTYPE=image/jpeg:https://loveinctv.org/wp-content/uploads/2024/02/LoveINCTV_Events_The-Grace-Place-Sidewalk-Sale.jpg
END:VEVENT
BEGIN:VEVENT
DTSTART;VALUE=DATE:20260525
DTEND;VALUE=DATE:20260526
DTSTAMP:20260425T102830
CREATED:20260406T204505Z
LAST-MODIFIED:20260406T204505Z
UID:20768-1779667200-1779753599@loveinctv.org
SUMMARY:Memorial Day Holiday
DESCRIPTION:The Love INC Office\, The Grace Place\, and the Donation Center will be CLOSED for Memorial Day
URL:https://loveinctv.org/event/memorial-day-holiday-2/
LOCATION:Love INC of Treasure Valley\, 16470 N. Franklin Blvd\, Nampa\, Idaho\, 83687
ATTACH;FMTTYPE=image/jpeg:https://loveinctv.org/wp-content/uploads/2024/02/LoveINCTV_Events_Office-Closed.jpg
END:VEVENT
END:VCALENDAR