BEGIN:VCALENDAR
VERSION:2.0
PRODID:-//Love INC of Treasure Valley - ECPv6.15.15//NONSGML v1.0//EN
CALSCALE:GREGORIAN
METHOD:PUBLISH
X-WR-CALNAME:Love INC of Treasure Valley
X-ORIGINAL-URL:https://loveinctv.org
X-WR-CALDESC:Events for Love INC of Treasure Valley
REFRESH-INTERVAL;VALUE=DURATION:PT1H
X-Robots-Tag:noindex
X-PUBLISHED-TTL:PT1H
BEGIN:VTIMEZONE
TZID:America/Boise
BEGIN:DAYLIGHT
TZOFFSETFROM:-0700
TZOFFSETTO:-0600
TZNAME:MDT
DTSTART:20230312T090000
END:DAYLIGHT
BEGIN:STANDARD
TZOFFSETFROM:-0600
TZOFFSETTO:-0700
TZNAME:MST
DTSTART:20231105T080000
END:STANDARD
BEGIN:DAYLIGHT
TZOFFSETFROM:-0700
TZOFFSETTO:-0600
TZNAME:MDT
DTSTART:20240310T090000
END:DAYLIGHT
BEGIN:STANDARD
TZOFFSETFROM:-0600
TZOFFSETTO:-0700
TZNAME:MST
DTSTART:20241103T080000
END:STANDARD
BEGIN:DAYLIGHT
TZOFFSETFROM:-0700
TZOFFSETTO:-0600
TZNAME:MDT
DTSTART:20250309T090000
END:DAYLIGHT
BEGIN:STANDARD
TZOFFSETFROM:-0600
TZOFFSETTO:-0700
TZNAME:MST
DTSTART:20251102T080000
END:STANDARD
BEGIN:DAYLIGHT
TZOFFSETFROM:-0700
TZOFFSETTO:-0600
TZNAME:MDT
DTSTART:20260308T090000
END:DAYLIGHT
BEGIN:STANDARD
TZOFFSETFROM:-0600
TZOFFSETTO:-0700
TZNAME:MST
DTSTART:20261101T080000
END:STANDARD
END:VTIMEZONE
BEGIN:VEVENT
DTSTART;TZID=America/Boise:20250110T100000
DTEND;TZID=America/Boise:20250110T160000
DTSTAMP:20260425T080934
CREATED:20241028T195926Z
LAST-MODIFIED:20241028T202013Z
UID:18793-1736503200-1736524800@loveinctv.org
SUMMARY:The Grace Place Sidewalk Sale
DESCRIPTION:
URL:https://loveinctv.org/event/the-grace-place-sidewalk-sale-17/
LOCATION:The Grace Place Resale Shoppe\, 16436 N. Franklin Blvd\, Nampa\, ID\, 83687\, United States
ATTACH;FMTTYPE=image/jpeg:https://loveinctv.org/wp-content/uploads/2024/02/LoveINCTV_Events_The-Grace-Place-Sidewalk-Sale.jpg
END:VEVENT
BEGIN:VEVENT
DTSTART;TZID=America/Boise:20250106T130000
DTEND;TZID=America/Boise:20250106T141500
DTSTAMP:20260425T080934
CREATED:20241218T153841Z
LAST-MODIFIED:20241218T153841Z
UID:19094-1736168400-1736172900@loveinctv.org
SUMMARY:Ministry Overview
DESCRIPTION:﻿﻿﻿﻿﻿﻿﻿ \nWant to make a difference in your community by helping people in need? Looking for volunteer opportunities with lasting impact? Have a heart to do local mission work? If so\, we have weekly\, monthly\, and occasional positions available in a variety of different areas. Whether you like working with people\, product\, or administration — we can use you! \nThose who serve with Love INC of Treasure Valley come from local Christian churches and agree with the Statement of Faith. \nIf you have questions\, call (208) 466-7810 ext. 303. \nSign Up For A Ministry Overview
URL:https://loveinctv.org/event/ministry-overview-13/
LOCATION:Love INC of Treasure Valley\, 16470 N. Franklin Blvd\, Nampa\, Idaho\, 83687
ATTACH;FMTTYPE=image/jpeg:https://loveinctv.org/wp-content/uploads/2024/02/LoveINCTV_Events_Ministry-Overview.jpg
END:VEVENT
BEGIN:VEVENT
DTSTART;VALUE=DATE:20250101
DTEND;VALUE=DATE:20250102
DTSTAMP:20260425T080934
CREATED:20241118T174413Z
LAST-MODIFIED:20241118T174413Z
UID:18885-1735689600-1735775999@loveinctv.org
SUMMARY:Closure
DESCRIPTION:The Office\, Donation Center\, and The Grace Place will be closed for New Year’s Day.
URL:https://loveinctv.org/event/closure-4/
LOCATION:Love INC of Treasure Valley\, 16470 N. Franklin Blvd\, Nampa\, Idaho\, 83687
ATTACH;FMTTYPE=image/png:https://loveinctv.org/wp-content/uploads/2024/11/New-Years-Closure.png
END:VEVENT
BEGIN:VEVENT
DTSTART;VALUE=DATE:20241224
DTEND;VALUE=DATE:20241226
DTSTAMP:20260425T080934
CREATED:20241118T174327Z
LAST-MODIFIED:20241118T174327Z
UID:18882-1734998400-1735171199@loveinctv.org
SUMMARY:Closure
DESCRIPTION:The Office\, Donation Center\, and The Grace Place will be closed for Christmas.
URL:https://loveinctv.org/event/closure-3/
LOCATION:Love INC of Treasure Valley\, 16470 N. Franklin Blvd\, Nampa\, Idaho\, 83687
ATTACH;FMTTYPE=image/png:https://loveinctv.org/wp-content/uploads/2024/11/Christmas-Closure.png
END:VEVENT
BEGIN:VEVENT
DTSTART;TZID=America/Boise:20241214T100000
DTEND;TZID=America/Boise:20241214T111500
DTSTAMP:20260425T080934
CREATED:20241028T200832Z
LAST-MODIFIED:20241028T200832Z
UID:18807-1734170400-1734174900@loveinctv.org
SUMMARY:Ministry Overview
DESCRIPTION:﻿﻿﻿﻿﻿﻿﻿ \nWant to make a difference in your community by helping people in need? Looking for volunteer opportunities with lasting impact? Have a heart to do local mission work? If so\, we have weekly\, monthly\, and occasional positions available in a variety of different areas. Whether you like working with people\, product\, or administration — we can use you! \nThose who serve with Love INC of Treasure Valley come from local Christian churches and agree with the Statement of Faith. \nIf you have questions\, call (208) 466-7810 ext. 303. \nSign Up For A Ministry Overview
URL:https://loveinctv.org/event/ministry-overview-12/
LOCATION:Love INC of Treasure Valley\, 16470 N. Franklin Blvd\, Nampa\, Idaho\, 83687
ATTACH;FMTTYPE=image/jpeg:https://loveinctv.org/wp-content/uploads/2024/02/LoveINCTV_Events_Ministry-Overview.jpg
END:VEVENT
BEGIN:VEVENT
DTSTART;TZID=America/Boise:20241212T100000
DTEND;TZID=America/Boise:20241212T111500
DTSTAMP:20260425T080934
CREATED:20241028T200715Z
LAST-MODIFIED:20241118T173205Z
UID:18805-1733997600-1734002100@loveinctv.org
SUMMARY:Ministry Overview
DESCRIPTION:﻿﻿﻿﻿﻿﻿﻿ \nWant to make a difference in your community by helping people in need? Looking for volunteer opportunities with lasting impact? Have a heart to do local mission work? If so\, we have weekly\, monthly\, and occasional positions available in a variety of different areas. Whether you like working with people\, product\, or administration — we can use you! \nThose who serve with Love INC of Treasure Valley come from local Christian churches and agree with the Statement of Faith. \nIf you have questions\, call (208) 466-7810 ext. 303. \nSign Up For A Ministry Overview
URL:https://loveinctv.org/event/ministry-overview-11/
LOCATION:Love INC of Treasure Valley\, 16470 N. Franklin Blvd\, Nampa\, Idaho\, 83687
ATTACH;FMTTYPE=image/jpeg:https://loveinctv.org/wp-content/uploads/2024/02/LoveINCTV_Events_Ministry-Overview.jpg
END:VEVENT
BEGIN:VEVENT
DTSTART;TZID=America/Boise:20241211T120000
DTEND;TZID=America/Boise:20241211T170000
DTSTAMP:20260425T080934
CREATED:20241118T174218Z
LAST-MODIFIED:20241118T174218Z
UID:18878-1733918400-1733936400@loveinctv.org
SUMMARY:Closure
DESCRIPTION:The Office\, Donation Center\, and The Grace Place will close at noon for a staff event.
URL:https://loveinctv.org/event/closure-2/
LOCATION:Love INC of Treasure Valley\, 16470 N. Franklin Blvd\, Nampa\, Idaho\, 83687
ATTACH;FMTTYPE=image/png:https://loveinctv.org/wp-content/uploads/2024/11/Staff-Event-Closure-1.png
END:VEVENT
BEGIN:VEVENT
DTSTART;TZID=America/Boise:20241203T130000
DTEND;TZID=America/Boise:20241203T141500
DTSTAMP:20260425T080934
CREATED:20241028T200556Z
LAST-MODIFIED:20241028T200556Z
UID:18803-1733230800-1733235300@loveinctv.org
SUMMARY:Ministry Overview
DESCRIPTION:﻿﻿﻿﻿﻿﻿﻿ \nWant to make a difference in your community by helping people in need? Looking for volunteer opportunities with lasting impact? Have a heart to do local mission work? If so\, we have weekly\, monthly\, and occasional positions available in a variety of different areas. Whether you like working with people\, product\, or administration — we can use you! \nThose who serve with Love INC of Treasure Valley come from local Christian churches and agree with the Statement of Faith. \nIf you have questions\, call (208) 466-7810 ext. 303. \nSign Up For A Ministry Overview
URL:https://loveinctv.org/event/ministry-overview-10/
LOCATION:Love INC of Treasure Valley\, 16470 N. Franklin Blvd\, Nampa\, Idaho\, 83687
ATTACH;FMTTYPE=image/jpeg:https://loveinctv.org/wp-content/uploads/2024/02/LoveINCTV_Events_Ministry-Overview.jpg
END:VEVENT
BEGIN:VEVENT
DTSTART;VALUE=DATE:20241128
DTEND;VALUE=DATE:20241201
DTSTAMP:20260425T080934
CREATED:20241028T200958Z
LAST-MODIFIED:20241118T170147Z
UID:18809-1732752000-1733011199@loveinctv.org
SUMMARY:Closure
DESCRIPTION:The Love INC Office\, Donation Center\, and The Grace Place will be CLOSED for Thanksgiving on November 28-30.
URL:https://loveinctv.org/event/closure/
LOCATION:ID
ATTACH;FMTTYPE=image/jpeg:https://loveinctv.org/wp-content/uploads/2024/10/Thanksgiving-Closure.jpg
END:VEVENT
BEGIN:VEVENT
DTSTART;TZID=America/Boise:20241123T100000
DTEND;TZID=America/Boise:20241123T140000
DTSTAMP:20260425T080934
CREATED:20241028T195826Z
LAST-MODIFIED:20241028T195826Z
UID:18791-1732356000-1732370400@loveinctv.org
SUMMARY:The Grace Place Sidewalk Sale
DESCRIPTION:
URL:https://loveinctv.org/event/the-grace-place-sidewalk-sale-16/
LOCATION:The Grace Place Resale Shoppe\, 16436 N. Franklin Blvd\, Nampa\, ID\, 83687\, United States
ATTACH;FMTTYPE=image/jpeg:https://loveinctv.org/wp-content/uploads/2024/02/LoveINCTV_Events_The-Grace-Place-Sidewalk-Sale.jpg
END:VEVENT
BEGIN:VEVENT
DTSTART;TZID=America/Boise:20241122T100000
DTEND;TZID=America/Boise:20241122T160000
DTSTAMP:20260425T080934
CREATED:20241028T195734Z
LAST-MODIFIED:20241028T195734Z
UID:18789-1732269600-1732291200@loveinctv.org
SUMMARY:The Grace Place Sidewalk Sale
DESCRIPTION:
URL:https://loveinctv.org/event/the-grace-place-sidewalk-sale-15/
LOCATION:The Grace Place Resale Shoppe\, 16436 N. Franklin Blvd\, Nampa\, ID\, 83687\, United States
ATTACH;FMTTYPE=image/jpeg:https://loveinctv.org/wp-content/uploads/2024/02/LoveINCTV_Events_The-Grace-Place-Sidewalk-Sale.jpg
END:VEVENT
BEGIN:VEVENT
DTSTART;TZID=America/Boise:20241116T100000
DTEND;TZID=America/Boise:20241116T111500
DTSTAMP:20260425T080934
CREATED:20241028T200452Z
LAST-MODIFIED:20241028T200452Z
UID:18801-1731751200-1731755700@loveinctv.org
SUMMARY:Ministry Overview
DESCRIPTION:﻿﻿﻿﻿﻿﻿﻿ \nWant to make a difference in your community by helping people in need? Looking for volunteer opportunities with lasting impact? Have a heart to do local mission work? If so\, we have weekly\, monthly\, and occasional positions available in a variety of different areas. Whether you like working with people\, product\, or administration — we can use you! \nThose who serve with Love INC of Treasure Valley come from local Christian churches and agree with the Statement of Faith. \nIf you have questions\, call (208) 466-7810 ext. 303. \nSign Up For A Ministry Overview
URL:https://loveinctv.org/event/ministry-overview-9/
LOCATION:Love INC of Treasure Valley\, 16470 N. Franklin Blvd\, Nampa\, Idaho\, 83687
ATTACH;FMTTYPE=image/jpeg:https://loveinctv.org/wp-content/uploads/2024/02/LoveINCTV_Events_Ministry-Overview.jpg
END:VEVENT
BEGIN:VEVENT
DTSTART;TZID=America/Boise:20241114T100000
DTEND;TZID=America/Boise:20241114T111500
DTSTAMP:20260425T080934
CREATED:20241028T200359Z
LAST-MODIFIED:20241028T200359Z
UID:18799-1731578400-1731582900@loveinctv.org
SUMMARY:Ministry Overview
DESCRIPTION:﻿﻿﻿﻿﻿﻿﻿ \nWant to make a difference in your community by helping people in need? Looking for volunteer opportunities with lasting impact? Have a heart to do local mission work? If so\, we have weekly\, monthly\, and occasional positions available in a variety of different areas. Whether you like working with people\, product\, or administration — we can use you! \nThose who serve with Love INC of Treasure Valley come from local Christian churches and agree with the Statement of Faith. \nIf you have questions\, call (208) 466-7810 ext. 303. \nSign Up For A Ministry Overview
URL:https://loveinctv.org/event/ministry-overview-8/
LOCATION:Love INC of Treasure Valley\, 16470 N. Franklin Blvd\, Nampa\, Idaho\, 83687
ATTACH;FMTTYPE=image/jpeg:https://loveinctv.org/wp-content/uploads/2024/02/LoveINCTV_Events_Ministry-Overview.jpg
END:VEVENT
BEGIN:VEVENT
DTSTART;TZID=America/Boise:20241105T130000
DTEND;TZID=America/Boise:20241105T141500
DTSTAMP:20260425T080934
CREATED:20241028T200232Z
LAST-MODIFIED:20241028T200232Z
UID:18797-1730811600-1730816100@loveinctv.org
SUMMARY:Ministry Overview
DESCRIPTION:﻿﻿﻿﻿﻿﻿﻿ \nWant to make a difference in your community by helping people in need? Looking for volunteer opportunities with lasting impact? Have a heart to do local mission work? If so\, we have weekly\, monthly\, and occasional positions available in a variety of different areas. Whether you like working with people\, product\, or administration — we can use you! \nThose who serve with Love INC of Treasure Valley come from local Christian churches and agree with the Statement of Faith. \nIf you have questions\, call (208) 466-7810 ext. 303. \nSign Up For A Ministry Overview
URL:https://loveinctv.org/event/ministry-overview-7/
LOCATION:Love INC of Treasure Valley\, 16470 N. Franklin Blvd\, Nampa\, Idaho\, 83687
ATTACH;FMTTYPE=image/jpeg:https://loveinctv.org/wp-content/uploads/2024/02/LoveINCTV_Events_Ministry-Overview.jpg
END:VEVENT
BEGIN:VEVENT
DTSTART;TZID=America/Boise:20241024T190000
DTEND;TZID=America/Boise:20241024T200000
DTSTAMP:20260425T080934
CREATED:20240919T161946Z
LAST-MODIFIED:20240919T161946Z
UID:18670-1729796400-1729800000@loveinctv.org
SUMMARY:Celebration Night
DESCRIPTION:You’re invited to Celebration Night at the New Hope Program. Celebrate with us as New Hope graduates share their personal stories. Bring potential supporters or participants to experience what they can be a part of. \nFor more information\, call the Love INC office 208-466-7810 ext. 301
URL:https://loveinctv.org/event/celebration-night-4/
LOCATION:Crossroads Community Church\, 4170 E. Amity Ave\, Nampa\, ID\, 83687\, United States
ATTACH;FMTTYPE=image/jpeg:https://loveinctv.org/wp-content/uploads/2024/02/LoveINCTV_Events_Celebration-Night.jpg
END:VEVENT
BEGIN:VEVENT
DTSTART;TZID=America/Boise:20241019T100000
DTEND;TZID=America/Boise:20241019T140000
DTSTAMP:20260425T080934
CREATED:20240920T212437Z
LAST-MODIFIED:20241007T190756Z
UID:18684-1729332000-1729346400@loveinctv.org
SUMMARY:Sidewalk Sale at The Grace Place
DESCRIPTION:
URL:https://loveinctv.org/event/sidewalk-sale-at-the-grace-place-4/
LOCATION:The Grace Place Resale Shoppe\, 16436 N. Franklin Blvd\, Nampa\, ID\, 83687\, United States
ATTACH;FMTTYPE=image/jpeg:https://loveinctv.org/wp-content/uploads/2024/02/LoveINCTV_Events_The-Grace-Place-Sidewalk-Sale.jpg
END:VEVENT
BEGIN:VEVENT
DTSTART;TZID=America/Boise:20241018T100000
DTEND;TZID=America/Boise:20241018T160000
DTSTAMP:20260425T080934
CREATED:20240919T165101Z
LAST-MODIFIED:20241007T190751Z
UID:18672-1729245600-1729267200@loveinctv.org
SUMMARY:Sidewalk Sale at The Grace Place
DESCRIPTION:
URL:https://loveinctv.org/event/sidewalk-sale-at-the-grace-place-3/
LOCATION:The Grace Place Resale Shoppe\, 16436 N. Franklin Blvd\, Nampa\, ID\, 83687\, United States
ATTACH;FMTTYPE=image/jpeg:https://loveinctv.org/wp-content/uploads/2024/02/LoveINCTV_Events_The-Grace-Place-Sidewalk-Sale.jpg
END:VEVENT
BEGIN:VEVENT
DTSTART;TZID=America/Boise:20241008T130000
DTEND;TZID=America/Boise:20241008T130000
DTSTAMP:20260425T080934
CREATED:20240919T170958Z
LAST-MODIFIED:20240919T170958Z
UID:18674-1728392400-1728392400@loveinctv.org
SUMMARY:Ministry Overview
DESCRIPTION:﻿﻿﻿﻿﻿﻿﻿ \nWant to make a difference in your community by helping people in need? Looking for volunteer opportunities with lasting impact? Have a heart to do local mission work? If so\, we have weekly\, monthly\, and occasional positions available in a variety of different areas. Whether you like working with people\, product\, or administration — we can use you! \nThose who serve with Love INC of Treasure Valley come from local Christian churches and agree with the Statement of Faith. \nIf you have questions\, call (208) 466-7810 ext. 303. \nSign Up For A Ministry Overview
URL:https://loveinctv.org/event/ministry-overview-4/
LOCATION:Love INC of Treasure Valley\, 16470 N. Franklin Blvd\, Nampa\, Idaho\, 83687
ATTACH;FMTTYPE=image/jpeg:https://loveinctv.org/wp-content/uploads/2024/02/LoveINCTV_Events_Ministry-Overview.jpg
END:VEVENT
BEGIN:VEVENT
DTSTART;TZID=America/Boise:20240927T183000
DTEND;TZID=America/Boise:20240927T183000
DTSTAMP:20260425T080934
CREATED:20240822T154812Z
LAST-MODIFIED:20240823T182154Z
UID:18561-1727461800-1727461800@loveinctv.org
SUMMARY:25th Anniversary Benefit Gala
DESCRIPTION:Join us for an evening of celebration and inspiration as we mark 25 years of ministry! Enjoy a gourmet dinner\, hear powerful stories of transformation\, and be among the first to learn about the exciting future of Love INC of Treasure Valley. Seating is limited\, so secure your spot today and be part of this special night! \nTime: Doors open at 6:00 p.m. | Dinner and Program begin at 6:30 p.m. \nLocation: Karcher Church of the Nazarene\, Nampa\, ID \nFor tickets\, online auction\, and more:  https://loveinctv25th.maxgiving.bid/about-us
URL:https://loveinctv.org/event/25th-anniversary-benefit-gala/
LOCATION:ID
ATTACH;FMTTYPE=image/jpeg:https://loveinctv.org/wp-content/uploads/2024/08/25th_Anniv_Benefit_Gala_Square.jpg
END:VEVENT
BEGIN:VEVENT
DTSTART;TZID=America/Boise:20240919T100000
DTEND;TZID=America/Boise:20240919T100000
DTSTAMP:20260425T080934
CREATED:20240822T152818Z
LAST-MODIFIED:20240822T152818Z
UID:18548-1726740000-1726740000@loveinctv.org
SUMMARY:Ministry Overview
DESCRIPTION:﻿﻿﻿﻿﻿﻿﻿ \nWant to make a difference in your community by helping people in need? Looking for volunteer opportunities with lasting impact? Have a heart to do local mission work? If so\, we have weekly\, monthly\, and occasional positions available in a variety of different areas. Whether you like working with people\, product\, or administration — we can use you! \nThose who serve with Love INC of Treasure Valley come from local Christian churches and agree with the Statement of Faith. \nIf you have questions\, call (208) 466-7810 ext. 303. \nSign Up For A Ministry Overview
URL:https://loveinctv.org/event/ministry-overview-2/
LOCATION:Love INC of Treasure Valley\, 16470 N. Franklin Blvd\, Nampa\, Idaho\, 83687
ATTACH;FMTTYPE=image/jpeg:https://loveinctv.org/wp-content/uploads/2024/02/LoveINCTV_Events_Ministry-Overview.jpg
END:VEVENT
BEGIN:VEVENT
DTSTART;TZID=America/Boise:20240914T100000
DTEND;TZID=America/Boise:20240914T160000
DTSTAMP:20260425T080934
CREATED:20240822T153535Z
LAST-MODIFIED:20240919T165025Z
UID:18555-1726308000-1726329600@loveinctv.org
SUMMARY:Sidewalk Sale at The Grace Place
DESCRIPTION:
URL:https://loveinctv.org/event/sidewalk-sale-at-the-grace-place-2/
LOCATION:The Grace Place Resale Shoppe\, 16436 N. Franklin Blvd\, Nampa\, ID\, 83687\, United States
ATTACH;FMTTYPE=image/jpeg:https://loveinctv.org/wp-content/uploads/2024/02/LoveINCTV_Events_The-Grace-Place-Sidewalk-Sale.jpg
END:VEVENT
BEGIN:VEVENT
DTSTART;TZID=America/Boise:20240913T100000
DTEND;TZID=America/Boise:20240913T160000
DTSTAMP:20260425T080934
CREATED:20240822T153157Z
LAST-MODIFIED:20240822T153157Z
UID:18550-1726221600-1726243200@loveinctv.org
SUMMARY:Sidewalk Sale at The Grace Place
DESCRIPTION:
URL:https://loveinctv.org/event/sidewalk-sale-at-the-grace-place/
LOCATION:The Grace Place Resale Shoppe\, 16436 N. Franklin Blvd\, Nampa\, ID\, 83687\, United States
ATTACH;FMTTYPE=image/jpeg:https://loveinctv.org/wp-content/uploads/2024/02/LoveINCTV_Events_The-Grace-Place-Sidewalk-Sale.jpg
END:VEVENT
BEGIN:VEVENT
DTSTART;TZID=America/Boise:20240910T180000
DTEND;TZID=America/Boise:20240910T180000
DTSTAMP:20260425T080934
CREATED:20240822T153319Z
LAST-MODIFIED:20240822T153319Z
UID:18553-1725991200-1725991200@loveinctv.org
SUMMARY:Ministry Overview
DESCRIPTION:﻿﻿﻿﻿﻿﻿ \nWant to make a difference in your community by helping people in need? Looking for volunteer opportunities with lasting impact? Have a heart to do local mission work? If so\, we have weekly\, monthly\, and occasional positions available in a variety of different areas. Whether you like working with people\, product\, or administration — we can use you! \nThose who serve with Love INC of Treasure Valley come from local Christian churches and agree with the Statement of Faith. \nIf you have questions\, call (208) 466-7810 ext. 303. \nSign Up For A Ministry Overview
URL:https://loveinctv.org/event/ministry-overview-3/
LOCATION:Love INC of Treasure Valley\, 16470 N. Franklin Blvd\, Nampa\, Idaho\, 83687
ATTACH;FMTTYPE=image/jpeg:https://loveinctv.org/wp-content/uploads/2024/02/LoveINCTV_Events_Ministry-Overview.jpg
END:VEVENT
BEGIN:VEVENT
DTSTART;TZID=America/Boise:20240910T130000
DTEND;TZID=America/Boise:20240910T130000
DTSTAMP:20260425T080934
CREATED:20240822T152633Z
LAST-MODIFIED:20240822T153231Z
UID:18546-1725973200-1725973200@loveinctv.org
SUMMARY:Ministry Overview
DESCRIPTION:﻿﻿﻿﻿﻿﻿ \nWant to make a difference in your community by helping people in need? Looking for volunteer opportunities with lasting impact? Have a heart to do local mission work? If so\, we have weekly\, monthly\, and occasional positions available in a variety of different areas. Whether you like working with people\, product\, or administration — we can use you! \nThose who serve with Love INC of Treasure Valley come from local Christian churches and agree with the Statement of Faith. \nIf you have questions\, call (208) 466-7810 ext. 303. \nSign Up For A Ministry Overview
URL:https://loveinctv.org/event/ministry-overview/
LOCATION:Love INC of Treasure Valley\, 16470 N. Franklin Blvd\, Nampa\, Idaho\, 83687
ATTACH;FMTTYPE=image/jpeg:https://loveinctv.org/wp-content/uploads/2024/02/LoveINCTV_Events_Ministry-Overview.jpg
END:VEVENT
BEGIN:VEVENT
DTSTART;VALUE=DATE:20240902
DTEND;VALUE=DATE:20240903
DTSTAMP:20260425T080934
CREATED:20240822T153916Z
LAST-MODIFIED:20240822T153916Z
UID:18558-1725235200-1725321599@loveinctv.org
SUMMARY:Labor Day
DESCRIPTION:The Love INC Office will be CLOSED on Monday\, September 2. The Grace Place and Donation Center will be OPEN their regular hours so stop by and see us: Donation Center:  9am – 4pm\, The Grace Place: 10am – 5pm
URL:https://loveinctv.org/event/labor-day/
LOCATION:ID
ATTACH;FMTTYPE=image/jpeg:https://loveinctv.org/wp-content/uploads/2024/08/Copy_of_The_Love_INC_Office_will_be_Closed_Monday_September_2nd_for_Labor_Day.jpg
END:VEVENT
BEGIN:VEVENT
DTSTART;TZID=America/Boise:20240829T190000
DTEND;TZID=America/Boise:20240829T200000
DTSTAMP:20260425T080934
CREATED:20240524T065024Z
LAST-MODIFIED:20240524T065024Z
UID:18322-1724958000-1724961600@loveinctv.org
SUMMARY:Celebration Night
DESCRIPTION:You’re invited to Celebration Night at the New Hope Program. Celebrate with us as New Hope graduates share their personal stories. Bring potential supporters or participants to experience what they can be a part of. \nFor more information\, call the Love INC office 208-466-7810 ext. 301
URL:https://loveinctv.org/event/celebration-night-3/
LOCATION:Crossroads Community Church\, 4170 E. Amity Ave\, Nampa\, ID\, 83687\, United States
ATTACH;FMTTYPE=image/jpeg:https://loveinctv.org/wp-content/uploads/2024/02/LoveINCTV_Events_Celebration-Night.jpg
END:VEVENT
BEGIN:VEVENT
DTSTART;TZID=America/Boise:20240817T100000
DTEND;TZID=America/Boise:20240817T140000
DTSTAMP:20260425T080934
CREATED:20240328T184126Z
LAST-MODIFIED:20240328T184126Z
UID:1700-1723888800-1723903200@loveinctv.org
SUMMARY:The Grace Place Sidewalk Sale
DESCRIPTION:
URL:https://loveinctv.org/event/the-grace-place-sidewalk-sale-14/
LOCATION:The Grace Place Resale Shoppe\, 16436 N. Franklin Blvd\, Nampa\, ID\, 83687\, United States
ATTACH;FMTTYPE=image/jpeg:https://loveinctv.org/wp-content/uploads/2024/02/LoveINCTV_Events_The-Grace-Place-Sidewalk-Sale.jpg
END:VEVENT
BEGIN:VEVENT
DTSTART;TZID=America/Boise:20240816T100000
DTEND;TZID=America/Boise:20240816T160000
DTSTAMP:20260425T080935
CREATED:20240328T184107Z
LAST-MODIFIED:20240328T184107Z
UID:1698-1723802400-1723824000@loveinctv.org
SUMMARY:The Grace Place Sidewalk Sale
DESCRIPTION:
URL:https://loveinctv.org/event/the-grace-place-sidewalk-sale-13/
LOCATION:The Grace Place Resale Shoppe\, 16436 N. Franklin Blvd\, Nampa\, ID\, 83687\, United States
ATTACH;FMTTYPE=image/jpeg:https://loveinctv.org/wp-content/uploads/2024/02/LoveINCTV_Events_The-Grace-Place-Sidewalk-Sale.jpg
END:VEVENT
BEGIN:VEVENT
DTSTART;TZID=America/Boise:20240815T100000
DTEND;TZID=America/Boise:20240815T111500
DTSTAMP:20260425T080935
CREATED:20240621T211422Z
LAST-MODIFIED:20240621T211422Z
UID:18404-1723716000-1723720500@loveinctv.org
SUMMARY:Ministry Overview for Prospective New Volunteers (10am)
DESCRIPTION:﻿﻿﻿﻿﻿﻿﻿ \nWant to make a difference in your community by helping people in need? Looking for volunteer opportunities with lasting impact? Have a heart to do local mission work? If so\, we have weekly\, monthly\, and occasional positions available in a variety of different areas. Whether you like working with people\, product\, or administration — we can use you! \nThose who serve with Love INC of Treasure Valley come from local Christian churches and agree with the Statement of Faith. \nIf you have questions\, call (208) 466-7810 ext. 303. \nSign Up For A Ministry Overview
URL:https://loveinctv.org/event/ministry-overview-for-prospective-new-volunteers-10am/
LOCATION:Love INC of Treasure Valley\, 16470 N. Franklin Blvd\, Nampa\, Idaho\, 83687
ATTACH;FMTTYPE=image/jpeg:https://loveinctv.org/wp-content/uploads/2024/02/LoveINCTV_Events_Ministry-Overview.jpg
END:VEVENT
BEGIN:VEVENT
DTSTART;TZID=America/Boise:20240813T180000
DTEND;TZID=America/Boise:20240813T191500
DTSTAMP:20260425T080935
CREATED:20240621T210902Z
LAST-MODIFIED:20240621T211154Z
UID:18402-1723572000-1723576500@loveinctv.org
SUMMARY:Ministry Overview for Prospective New Volunteers (6pm)
DESCRIPTION:﻿﻿﻿﻿﻿﻿ \nWant to make a difference in your community by helping people in need? Looking for volunteer opportunities with lasting impact? Have a heart to do local mission work? If so\, we have weekly\, monthly\, and occasional positions available in a variety of different areas. Whether you like working with people\, product\, or administration — we can use you! \nThose who serve with Love INC of Treasure Valley come from local Christian churches and agree with the Statement of Faith. \nIf you have questions\, call (208) 466-7810 ext. 303. \nSign Up For A Ministry Overview
URL:https://loveinctv.org/event/ministry-overview-for-prospective-new-volunteers-6pm-2/
LOCATION:Love INC of Treasure Valley\, 16470 N. Franklin Blvd\, Nampa\, Idaho\, 83687
ATTACH;FMTTYPE=image/jpeg:https://loveinctv.org/wp-content/uploads/2024/02/LoveINCTV_Events_Ministry-Overview.jpg
END:VEVENT
END:VCALENDAR