BEGIN:VCALENDAR
VERSION:2.0
PRODID:-//Love INC of Treasure Valley - ECPv6.15.15//NONSGML v1.0//EN
CALSCALE:GREGORIAN
METHOD:PUBLISH
X-WR-CALNAME:Love INC of Treasure Valley
X-ORIGINAL-URL:https://loveinctv.org
X-WR-CALDESC:Events for Love INC of Treasure Valley
REFRESH-INTERVAL;VALUE=DURATION:PT1H
X-Robots-Tag:noindex
X-PUBLISHED-TTL:PT1H
BEGIN:VTIMEZONE
TZID:America/Boise
BEGIN:DAYLIGHT
TZOFFSETFROM:-0700
TZOFFSETTO:-0600
TZNAME:MDT
DTSTART:20230312T090000
END:DAYLIGHT
BEGIN:STANDARD
TZOFFSETFROM:-0600
TZOFFSETTO:-0700
TZNAME:MST
DTSTART:20231105T080000
END:STANDARD
BEGIN:DAYLIGHT
TZOFFSETFROM:-0700
TZOFFSETTO:-0600
TZNAME:MDT
DTSTART:20240310T090000
END:DAYLIGHT
BEGIN:STANDARD
TZOFFSETFROM:-0600
TZOFFSETTO:-0700
TZNAME:MST
DTSTART:20241103T080000
END:STANDARD
BEGIN:DAYLIGHT
TZOFFSETFROM:-0700
TZOFFSETTO:-0600
TZNAME:MDT
DTSTART:20250309T090000
END:DAYLIGHT
BEGIN:STANDARD
TZOFFSETFROM:-0600
TZOFFSETTO:-0700
TZNAME:MST
DTSTART:20251102T080000
END:STANDARD
END:VTIMEZONE
BEGIN:VEVENT
DTSTART;TZID=America/Boise:20240913T100000
DTEND;TZID=America/Boise:20240913T160000
DTSTAMP:20260425T223140
CREATED:20240822T153157Z
LAST-MODIFIED:20240822T153157Z
UID:18550-1726221600-1726243200@loveinctv.org
SUMMARY:Sidewalk Sale at The Grace Place
DESCRIPTION:
URL:https://loveinctv.org/event/sidewalk-sale-at-the-grace-place/
LOCATION:The Grace Place Resale Shoppe\, 16436 N. Franklin Blvd\, Nampa\, ID\, 83687\, United States
ATTACH;FMTTYPE=image/jpeg:https://loveinctv.org/wp-content/uploads/2024/02/LoveINCTV_Events_The-Grace-Place-Sidewalk-Sale.jpg
END:VEVENT
BEGIN:VEVENT
DTSTART;TZID=America/Boise:20240910T180000
DTEND;TZID=America/Boise:20240910T180000
DTSTAMP:20260425T223140
CREATED:20240822T153319Z
LAST-MODIFIED:20240822T153319Z
UID:18553-1725991200-1725991200@loveinctv.org
SUMMARY:Ministry Overview
DESCRIPTION:﻿﻿﻿﻿﻿﻿ \nWant to make a difference in your community by helping people in need? Looking for volunteer opportunities with lasting impact? Have a heart to do local mission work? If so\, we have weekly\, monthly\, and occasional positions available in a variety of different areas. Whether you like working with people\, product\, or administration — we can use you! \nThose who serve with Love INC of Treasure Valley come from local Christian churches and agree with the Statement of Faith. \nIf you have questions\, call (208) 466-7810 ext. 303. \nSign Up For A Ministry Overview
URL:https://loveinctv.org/event/ministry-overview-3/
LOCATION:Love INC of Treasure Valley\, 16470 N. Franklin Blvd\, Nampa\, Idaho\, 83687
ATTACH;FMTTYPE=image/jpeg:https://loveinctv.org/wp-content/uploads/2024/02/LoveINCTV_Events_Ministry-Overview.jpg
END:VEVENT
BEGIN:VEVENT
DTSTART;TZID=America/Boise:20240910T130000
DTEND;TZID=America/Boise:20240910T130000
DTSTAMP:20260425T223140
CREATED:20240822T152633Z
LAST-MODIFIED:20240822T153231Z
UID:18546-1725973200-1725973200@loveinctv.org
SUMMARY:Ministry Overview
DESCRIPTION:﻿﻿﻿﻿﻿﻿ \nWant to make a difference in your community by helping people in need? Looking for volunteer opportunities with lasting impact? Have a heart to do local mission work? If so\, we have weekly\, monthly\, and occasional positions available in a variety of different areas. Whether you like working with people\, product\, or administration — we can use you! \nThose who serve with Love INC of Treasure Valley come from local Christian churches and agree with the Statement of Faith. \nIf you have questions\, call (208) 466-7810 ext. 303. \nSign Up For A Ministry Overview
URL:https://loveinctv.org/event/ministry-overview/
LOCATION:Love INC of Treasure Valley\, 16470 N. Franklin Blvd\, Nampa\, Idaho\, 83687
ATTACH;FMTTYPE=image/jpeg:https://loveinctv.org/wp-content/uploads/2024/02/LoveINCTV_Events_Ministry-Overview.jpg
END:VEVENT
BEGIN:VEVENT
DTSTART;VALUE=DATE:20240902
DTEND;VALUE=DATE:20240903
DTSTAMP:20260425T223140
CREATED:20240822T153916Z
LAST-MODIFIED:20240822T153916Z
UID:18558-1725235200-1725321599@loveinctv.org
SUMMARY:Labor Day
DESCRIPTION:The Love INC Office will be CLOSED on Monday\, September 2. The Grace Place and Donation Center will be OPEN their regular hours so stop by and see us: Donation Center:  9am – 4pm\, The Grace Place: 10am – 5pm
URL:https://loveinctv.org/event/labor-day/
ATTACH;FMTTYPE=image/jpeg:https://loveinctv.org/wp-content/uploads/2024/08/Copy_of_The_Love_INC_Office_will_be_Closed_Monday_September_2nd_for_Labor_Day.jpg
END:VEVENT
BEGIN:VEVENT
DTSTART;TZID=America/Boise:20240829T190000
DTEND;TZID=America/Boise:20240829T200000
DTSTAMP:20260425T223140
CREATED:20240524T065024Z
LAST-MODIFIED:20240524T065024Z
UID:18322-1724958000-1724961600@loveinctv.org
SUMMARY:Celebration Night
DESCRIPTION:You’re invited to Celebration Night at the New Hope Program. Celebrate with us as New Hope graduates share their personal stories. Bring potential supporters or participants to experience what they can be a part of. \nFor more information\, call the Love INC office 208-466-7810 ext. 301
URL:https://loveinctv.org/event/celebration-night-3/
LOCATION:Crossroads Community Church\, 4170 E. Amity Ave\, Nampa\, ID\, 83687\, United States
ATTACH;FMTTYPE=image/jpeg:https://loveinctv.org/wp-content/uploads/2024/02/LoveINCTV_Events_Celebration-Night.jpg
END:VEVENT
BEGIN:VEVENT
DTSTART;TZID=America/Boise:20240817T100000
DTEND;TZID=America/Boise:20240817T140000
DTSTAMP:20260425T223140
CREATED:20240328T184126Z
LAST-MODIFIED:20240328T184126Z
UID:1700-1723888800-1723903200@loveinctv.org
SUMMARY:The Grace Place Sidewalk Sale
DESCRIPTION:
URL:https://loveinctv.org/event/the-grace-place-sidewalk-sale-14/
LOCATION:The Grace Place Resale Shoppe\, 16436 N. Franklin Blvd\, Nampa\, ID\, 83687\, United States
ATTACH;FMTTYPE=image/jpeg:https://loveinctv.org/wp-content/uploads/2024/02/LoveINCTV_Events_The-Grace-Place-Sidewalk-Sale.jpg
END:VEVENT
BEGIN:VEVENT
DTSTART;TZID=America/Boise:20240816T100000
DTEND;TZID=America/Boise:20240816T160000
DTSTAMP:20260425T223140
CREATED:20240328T184107Z
LAST-MODIFIED:20240328T184107Z
UID:1698-1723802400-1723824000@loveinctv.org
SUMMARY:The Grace Place Sidewalk Sale
DESCRIPTION:
URL:https://loveinctv.org/event/the-grace-place-sidewalk-sale-13/
LOCATION:The Grace Place Resale Shoppe\, 16436 N. Franklin Blvd\, Nampa\, ID\, 83687\, United States
ATTACH;FMTTYPE=image/jpeg:https://loveinctv.org/wp-content/uploads/2024/02/LoveINCTV_Events_The-Grace-Place-Sidewalk-Sale.jpg
END:VEVENT
BEGIN:VEVENT
DTSTART;TZID=America/Boise:20240815T100000
DTEND;TZID=America/Boise:20240815T111500
DTSTAMP:20260425T223140
CREATED:20240621T211422Z
LAST-MODIFIED:20240621T211422Z
UID:18404-1723716000-1723720500@loveinctv.org
SUMMARY:Ministry Overview for Prospective New Volunteers (10am)
DESCRIPTION:﻿﻿﻿﻿﻿﻿﻿ \nWant to make a difference in your community by helping people in need? Looking for volunteer opportunities with lasting impact? Have a heart to do local mission work? If so\, we have weekly\, monthly\, and occasional positions available in a variety of different areas. Whether you like working with people\, product\, or administration — we can use you! \nThose who serve with Love INC of Treasure Valley come from local Christian churches and agree with the Statement of Faith. \nIf you have questions\, call (208) 466-7810 ext. 303. \nSign Up For A Ministry Overview
URL:https://loveinctv.org/event/ministry-overview-for-prospective-new-volunteers-10am/
LOCATION:Love INC of Treasure Valley\, 16470 N. Franklin Blvd\, Nampa\, Idaho\, 83687
ATTACH;FMTTYPE=image/jpeg:https://loveinctv.org/wp-content/uploads/2024/02/LoveINCTV_Events_Ministry-Overview.jpg
END:VEVENT
BEGIN:VEVENT
DTSTART;TZID=America/Boise:20240813T180000
DTEND;TZID=America/Boise:20240813T191500
DTSTAMP:20260425T223140
CREATED:20240621T210902Z
LAST-MODIFIED:20240621T211154Z
UID:18402-1723572000-1723576500@loveinctv.org
SUMMARY:Ministry Overview for Prospective New Volunteers (6pm)
DESCRIPTION:﻿﻿﻿﻿﻿﻿ \nWant to make a difference in your community by helping people in need? Looking for volunteer opportunities with lasting impact? Have a heart to do local mission work? If so\, we have weekly\, monthly\, and occasional positions available in a variety of different areas. Whether you like working with people\, product\, or administration — we can use you! \nThose who serve with Love INC of Treasure Valley come from local Christian churches and agree with the Statement of Faith. \nIf you have questions\, call (208) 466-7810 ext. 303. \nSign Up For A Ministry Overview
URL:https://loveinctv.org/event/ministry-overview-for-prospective-new-volunteers-6pm-2/
LOCATION:Love INC of Treasure Valley\, 16470 N. Franklin Blvd\, Nampa\, Idaho\, 83687
ATTACH;FMTTYPE=image/jpeg:https://loveinctv.org/wp-content/uploads/2024/02/LoveINCTV_Events_Ministry-Overview.jpg
END:VEVENT
BEGIN:VEVENT
DTSTART;TZID=America/Boise:20240806T130000
DTEND;TZID=America/Boise:20240806T141500
DTSTAMP:20260425T223140
CREATED:20240621T210630Z
LAST-MODIFIED:20240621T210824Z
UID:18400-1722949200-1722953700@loveinctv.org
SUMMARY:Ministry Overview for Prospective New Volunteers (1pm)
DESCRIPTION:﻿﻿﻿﻿﻿﻿﻿ \nWant to make a difference in your community by helping people in need? Looking for volunteer opportunities with lasting impact? Have a heart to do local mission work? If so\, we have weekly\, monthly\, and occasional positions available in a variety of different areas. Whether you like working with people\, product\, or administration — we can use you! \nThose who serve with Love INC of Treasure Valley come from local Christian churches and agree with the Statement of Faith. \nIf you have questions\, call (208) 466-7810 ext. 303. \nSign Up For A Ministry Overview
URL:https://loveinctv.org/event/ministry-overview-for-prospective-new-volunteers-1pm/
LOCATION:Love INC of Treasure Valley\, 16470 N. Franklin Blvd\, Nampa\, Idaho\, 83687
ATTACH;FMTTYPE=image/jpeg:https://loveinctv.org/wp-content/uploads/2024/02/LoveINCTV_Events_Ministry-Overview.jpg
END:VEVENT
BEGIN:VEVENT
DTSTART;TZID=America/Boise:20240723T080000
DTEND;TZID=America/Boise:20240723T130000
DTSTAMP:20260425T223140
CREATED:20240624T141717Z
LAST-MODIFIED:20240624T141717Z
UID:18406-1721721600-1721739600@loveinctv.org
SUMMARY:The Love INC office\, Donation Center\, and The Grace Place will be closed for a staff team building event.
DESCRIPTION:The Love INC office\, Donation Center\, and The Grace Place will be closed for a staff team building event.
URL:https://loveinctv.org/event/the-love-inc-office-donation-center-and-the-grace-place-will-be-closed-for-a-staff-team-building-event/
LOCATION:Love INC of Treasure Valley\, 16470 N. Franklin Blvd\, Nampa\, Idaho\, 83687
ATTACH;FMTTYPE=image/jpeg:https://loveinctv.org/wp-content/uploads/2024/02/LoveINCTV_Events_Office-Closed.jpg
END:VEVENT
BEGIN:VEVENT
DTSTART;TZID=America/Boise:20240718T100000
DTEND;TZID=America/Boise:20240718T111500
DTSTAMP:20260425T223140
CREATED:20240524T064925Z
LAST-MODIFIED:20240524T064925Z
UID:18320-1721296800-1721301300@loveinctv.org
SUMMARY:Ministry Overview for Prospective New Volunteers
DESCRIPTION:﻿﻿﻿﻿﻿﻿ \nWant to make a difference in your community by helping people in need? Looking for volunteer opportunities with lasting impact? Have a heart to do local mission work? If so\, we have weekly\, monthly\, and occasional positions available in a variety of different areas. Whether you like working with people\, product\, or administration — we can use you! \nThose who serve with Love INC of Treasure Valley come from local Christian churches and agree with the Statement of Faith. \nIf you have questions\, call (208) 466-7810 ext. 303. \nSign Up For A Ministry Overview
URL:https://loveinctv.org/event/ministry-overview-for-prospective-new-volunteers-18/
LOCATION:Love INC of Treasure Valley\, 16470 N. Franklin Blvd\, Nampa\, Idaho\, 83687
ATTACH;FMTTYPE=image/jpeg:https://loveinctv.org/wp-content/uploads/2024/02/LoveINCTV_Events_Ministry-Overview.jpg
END:VEVENT
BEGIN:VEVENT
DTSTART;TZID=America/Boise:20240713T100000
DTEND;TZID=America/Boise:20240713T140000
DTSTAMP:20260425T223140
CREATED:20240328T184049Z
LAST-MODIFIED:20240328T184049Z
UID:1696-1720864800-1720879200@loveinctv.org
SUMMARY:The Grace Place Sidewalk Sale
DESCRIPTION:
URL:https://loveinctv.org/event/the-grace-place-sidewalk-sale-12/
LOCATION:The Grace Place Resale Shoppe\, 16436 N. Franklin Blvd\, Nampa\, ID\, 83687\, United States
ATTACH;FMTTYPE=image/jpeg:https://loveinctv.org/wp-content/uploads/2024/02/LoveINCTV_Events_The-Grace-Place-Sidewalk-Sale.jpg
END:VEVENT
BEGIN:VEVENT
DTSTART;TZID=America/Boise:20240712T100000
DTEND;TZID=America/Boise:20240712T160000
DTSTAMP:20260425T223140
CREATED:20240328T184032Z
LAST-MODIFIED:20240328T184032Z
UID:1694-1720778400-1720800000@loveinctv.org
SUMMARY:The Grace Place Sidewalk Sale
DESCRIPTION:
URL:https://loveinctv.org/event/the-grace-place-sidewalk-sale-11/
LOCATION:The Grace Place Resale Shoppe\, 16436 N. Franklin Blvd\, Nampa\, ID\, 83687\, United States
ATTACH;FMTTYPE=image/jpeg:https://loveinctv.org/wp-content/uploads/2024/02/LoveINCTV_Events_The-Grace-Place-Sidewalk-Sale.jpg
END:VEVENT
BEGIN:VEVENT
DTSTART;TZID=America/Boise:20240709T180000
DTEND;TZID=America/Boise:20240709T191500
DTSTAMP:20260425T223140
CREATED:20240524T064823Z
LAST-MODIFIED:20240524T064823Z
UID:18317-1720548000-1720552500@loveinctv.org
SUMMARY:Ministry Overview for Prospective New Volunteers (6pm)
DESCRIPTION:﻿﻿﻿﻿﻿﻿ \nWant to make a difference in your community by helping people in need? Looking for volunteer opportunities with lasting impact? Have a heart to do local mission work? If so\, we have weekly\, monthly\, and occasional positions available in a variety of different areas. Whether you like working with people\, product\, or administration — we can use you! \nThose who serve with Love INC of Treasure Valley come from local Christian churches and agree with the Statement of Faith. \nIf you have questions\, call (208) 466-7810 ext. 303. \nSign Up For A Ministry Overview
URL:https://loveinctv.org/event/ministry-overview-for-prospective-new-volunteers-6pm/
LOCATION:Love INC of Treasure Valley\, 16470 N. Franklin Blvd\, Nampa\, Idaho\, 83687
ATTACH;FMTTYPE=image/jpeg:https://loveinctv.org/wp-content/uploads/2024/02/LoveINCTV_Events_Ministry-Overview.jpg
END:VEVENT
BEGIN:VEVENT
DTSTART;TZID=America/Boise:20240709T130000
DTEND;TZID=America/Boise:20240709T141500
DTSTAMP:20260425T223140
CREATED:20240524T064741Z
LAST-MODIFIED:20240524T064837Z
UID:18315-1720530000-1720534500@loveinctv.org
SUMMARY:Ministry Overview for Prospective New Volunteers (1pm)
DESCRIPTION:﻿﻿﻿﻿﻿﻿ \nWant to make a difference in your community by helping people in need? Looking for volunteer opportunities with lasting impact? Have a heart to do local mission work? If so\, we have weekly\, monthly\, and occasional positions available in a variety of different areas. Whether you like working with people\, product\, or administration — we can use you! \nThose who serve with Love INC of Treasure Valley come from local Christian churches and agree with the Statement of Faith. \nIf you have questions\, call (208) 466-7810 ext. 303. \nSign Up For A Ministry Overview
URL:https://loveinctv.org/event/ministry-overview-for-prospective-new-volunteers-17/
LOCATION:Love INC of Treasure Valley\, 16470 N. Franklin Blvd\, Nampa\, Idaho\, 83687
ATTACH;FMTTYPE=image/jpeg:https://loveinctv.org/wp-content/uploads/2024/02/LoveINCTV_Events_Ministry-Overview.jpg
END:VEVENT
BEGIN:VEVENT
DTSTART;VALUE=DATE:20240704
DTEND;VALUE=DATE:20240705
DTSTAMP:20260425T223140
CREATED:20240606T021110Z
LAST-MODIFIED:20240624T142940Z
UID:18360-1720051200-1720137599@loveinctv.org
SUMMARY:Closed for Independence Day
DESCRIPTION:The Love INC office\, donation center\, and The Grace Place will all be closed for the Independence Day holiday.
URL:https://loveinctv.org/event/closed-for-independence-day/
ATTACH;FMTTYPE=image/jpeg:https://loveinctv.org/wp-content/uploads/2024/06/loveinctv-independence-day.jpg
END:VEVENT
BEGIN:VEVENT
DTSTART;TZID=America/Boise:20240703T173000
DTEND;TZID=America/Boise:20240703T203000
DTSTAMP:20260425T223140
CREATED:20240625T162508Z
LAST-MODIFIED:20240625T162508Z
UID:18408-1720027800-1720038600@loveinctv.org
SUMMARY:God & Country Family Festival
DESCRIPTION:Stop by our booth and see us at the Idaho Center and get your name entered into our drawing for a gift basket! Enjoy free admission for a night of family-friendly fun\, including the Treasure Valley’s largest fireworks show\, great Christian bands\, military appreciation\, civic awards\, and more. \nMore info:\nhttps://www.godandcountryfestival.com/.
URL:https://loveinctv.org/event/god-country-family-festival/
LOCATION:Love INC of Treasure Valley\, 16470 N. Franklin Blvd\, Nampa\, Idaho\, 83687
ATTACH;FMTTYPE=image/jpeg:https://loveinctv.org/wp-content/uploads/2024/06/god-and-country-loveinctv.jpg
END:VEVENT
BEGIN:VEVENT
DTSTART;TZID=America/Boise:20240615T100000
DTEND;TZID=America/Boise:20240615T140000
DTSTAMP:20260425T223140
CREATED:20240328T184011Z
LAST-MODIFIED:20240328T184011Z
UID:1692-1718445600-1718460000@loveinctv.org
SUMMARY:The Grace Place Sidewalk Sale
DESCRIPTION:
URL:https://loveinctv.org/event/the-grace-place-sidewalk-sale-10/
LOCATION:The Grace Place Resale Shoppe\, 16436 N. Franklin Blvd\, Nampa\, ID\, 83687\, United States
ATTACH;FMTTYPE=image/jpeg:https://loveinctv.org/wp-content/uploads/2024/02/LoveINCTV_Events_The-Grace-Place-Sidewalk-Sale.jpg
END:VEVENT
BEGIN:VEVENT
DTSTART;TZID=America/Boise:20240614T100000
DTEND;TZID=America/Boise:20240614T160000
DTSTAMP:20260425T223140
CREATED:20240328T183945Z
LAST-MODIFIED:20240328T183945Z
UID:1690-1718359200-1718380800@loveinctv.org
SUMMARY:The Grace Place Sidewalk Sale
DESCRIPTION:
URL:https://loveinctv.org/event/the-grace-place-sidewalk-sale-9/
LOCATION:The Grace Place Resale Shoppe\, 16436 N. Franklin Blvd\, Nampa\, ID\, 83687\, United States
ATTACH;FMTTYPE=image/jpeg:https://loveinctv.org/wp-content/uploads/2024/02/LoveINCTV_Events_The-Grace-Place-Sidewalk-Sale.jpg
END:VEVENT
BEGIN:VEVENT
DTSTART;TZID=America/Boise:20240613T100000
DTEND;TZID=America/Boise:20240613T111500
DTSTAMP:20260425T223140
CREATED:20240425T212949Z
LAST-MODIFIED:20240425T212949Z
UID:18230-1718272800-1718277300@loveinctv.org
SUMMARY:Ministry Overview for Prospective New Volunteers
DESCRIPTION:﻿﻿﻿﻿﻿﻿ \nWant to make a difference in your community by helping people in need? Looking for volunteer opportunities with lasting impact? Have a heart to do local mission work? If so\, we have weekly\, monthly\, and occasional positions available in a variety of different areas. Whether you like working with people\, product\, or administration — we can use you! \nThose who serve with Love INC of Treasure Valley come from local Christian churches and agree with the Statement of Faith. \nIf you have questions\, call (208) 466-7810 ext. 303. \nSign Up For A Ministry Overview
URL:https://loveinctv.org/event/ministry-overview-for-prospective-new-volunteers-16/
LOCATION:Love INC of Treasure Valley\, 16470 N. Franklin Blvd\, Nampa\, Idaho\, 83687
ATTACH;FMTTYPE=image/jpeg:https://loveinctv.org/wp-content/uploads/2024/02/LoveINCTV_Events_Ministry-Overview.jpg
END:VEVENT
BEGIN:VEVENT
DTSTART;TZID=America/Boise:20240604T100000
DTEND;TZID=America/Boise:20240604T111500
DTSTAMP:20260425T223140
CREATED:20240425T212831Z
LAST-MODIFIED:20240524T064618Z
UID:18228-1717495200-1717499700@loveinctv.org
SUMMARY:Ministry Overview for Prospective New Volunteers
DESCRIPTION:﻿﻿﻿﻿﻿﻿ \nWant to make a difference in your community by helping people in need? Looking for volunteer opportunities with lasting impact? Have a heart to do local mission work? If so\, we have weekly\, monthly\, and occasional positions available in a variety of different areas. Whether you like working with people\, product\, or administration — we can use you! \nThose who serve with Love INC of Treasure Valley come from local Christian churches and agree with the Statement of Faith. \nIf you have questions\, call (208) 466-7810 ext. 303. \nSign Up For A Ministry Overview
URL:https://loveinctv.org/event/ministry-overview-for-prospective-new-volunteers-15/
LOCATION:Love INC of Treasure Valley\, 16470 N. Franklin Blvd\, Nampa\, Idaho\, 83687
ATTACH;FMTTYPE=image/jpeg:https://loveinctv.org/wp-content/uploads/2024/02/LoveINCTV_Events_Ministry-Overview.jpg
END:VEVENT
BEGIN:VEVENT
DTSTART;TZID=America/Boise:20240601T100000
DTEND;TZID=America/Boise:20240601T111500
DTSTAMP:20260425T223140
CREATED:20240425T212725Z
LAST-MODIFIED:20240425T212725Z
UID:18226-1717236000-1717240500@loveinctv.org
SUMMARY:Ministry Overview for Prospective New Volunteers
DESCRIPTION:﻿﻿﻿﻿﻿﻿ \nWant to make a difference in your community by helping people in need? Looking for volunteer opportunities with lasting impact? Have a heart to do local mission work? If so\, we have weekly\, monthly\, and occasional positions available in a variety of different areas. Whether you like working with people\, product\, or administration — we can use you! \nThose who serve with Love INC of Treasure Valley come from local Christian churches and agree with the Statement of Faith. \nIf you have questions\, call (208) 466-7810 ext. 303. \nSign Up For A Ministry Overview
URL:https://loveinctv.org/event/ministry-overview-for-prospective-new-volunteers-14/
LOCATION:Love INC of Treasure Valley\, 16470 N. Franklin Blvd\, Nampa\, Idaho\, 83687
ATTACH;FMTTYPE=image/jpeg:https://loveinctv.org/wp-content/uploads/2024/02/LoveINCTV_Events_Ministry-Overview.jpg
END:VEVENT
BEGIN:VEVENT
DTSTART;TZID=America/Boise:20240530T190000
DTEND;TZID=America/Boise:20240530T200000
DTSTAMP:20260425T223140
CREATED:20240229T065042Z
LAST-MODIFIED:20240327T200146Z
UID:1342-1717095600-1717099200@loveinctv.org
SUMMARY:Celebration Night
DESCRIPTION:You’re invited to Celebration Night at the New Hope Program. Celebrate with us as New Hope graduates share their personal stories. Bring potential supporters or participants to experience what they can be a part of. \nFor more information\, call the Love INC office 208-466-7810 ext. 301
URL:https://loveinctv.org/event/celebration-night-2/
LOCATION:Crossroads Community Church\, 4170 E. Amity Ave\, Nampa\, ID\, 83687\, United States
ATTACH;FMTTYPE=image/jpeg:https://loveinctv.org/wp-content/uploads/2024/02/LoveINCTV_Events_Celebration-Night.jpg
END:VEVENT
BEGIN:VEVENT
DTSTART;VALUE=DATE:20240527
DTEND;VALUE=DATE:20240528
DTSTAMP:20260425T223140
CREATED:20240328T184244Z
LAST-MODIFIED:20240328T184244Z
UID:1702-1716768000-1716854399@loveinctv.org
SUMMARY:The Love INC Office will be CLOSED for Memorial Day. The Grace Place and the Donation Center will be OPEN their regular hours.
DESCRIPTION:The Love INC Office will be CLOSED for Memorial Day. The Grace Place and the Donation Center will be OPEN their regular hours.
URL:https://loveinctv.org/event/the-love-inc-office-will-be-closed-for-memorial-day-the-grace-place-and-the-donation-center-will-be-open-their-regular-hours/
LOCATION:Love INC of Treasure Valley\, 16470 N. Franklin Blvd\, Nampa\, Idaho\, 83687
ATTACH;FMTTYPE=image/jpeg:https://loveinctv.org/wp-content/uploads/2024/02/LoveINCTV_Events_Office-Closed.jpg
END:VEVENT
BEGIN:VEVENT
DTSTART;TZID=America/Boise:20240518T100000
DTEND;TZID=America/Boise:20240518T140000
DTSTAMP:20260425T223140
CREATED:20240328T183913Z
LAST-MODIFIED:20240328T183913Z
UID:1688-1716026400-1716040800@loveinctv.org
SUMMARY:The Grace Place Sidewalk Sale
DESCRIPTION:
URL:https://loveinctv.org/event/the-grace-place-sidewalk-sale-8/
LOCATION:The Grace Place Resale Shoppe\, 16436 N. Franklin Blvd\, Nampa\, ID\, 83687\, United States
ATTACH;FMTTYPE=image/jpeg:https://loveinctv.org/wp-content/uploads/2024/02/LoveINCTV_Events_The-Grace-Place-Sidewalk-Sale.jpg
END:VEVENT
BEGIN:VEVENT
DTSTART;TZID=America/Boise:20240517T100000
DTEND;TZID=America/Boise:20240517T160000
DTSTAMP:20260425T223140
CREATED:20240328T183840Z
LAST-MODIFIED:20240328T183840Z
UID:1686-1715940000-1715961600@loveinctv.org
SUMMARY:The Grace Place Sidewalk Sale
DESCRIPTION:
URL:https://loveinctv.org/event/the-grace-place-sidewalk-sale-7/
LOCATION:The Grace Place Resale Shoppe\, 16436 N. Franklin Blvd\, Nampa\, ID\, 83687\, United States
ATTACH;FMTTYPE=image/jpeg:https://loveinctv.org/wp-content/uploads/2024/02/LoveINCTV_Events_The-Grace-Place-Sidewalk-Sale.jpg
END:VEVENT
BEGIN:VEVENT
DTSTART;TZID=America/Boise:20240514T180000
DTEND;TZID=America/Boise:20240514T191500
DTSTAMP:20260425T223140
CREATED:20240328T175739Z
LAST-MODIFIED:20240408T185105Z
UID:1670-1715709600-1715714100@loveinctv.org
SUMMARY:Ministry Overview for Prospective New Volunteers
DESCRIPTION:﻿﻿﻿﻿﻿ \nWant to make a difference in your community by helping people in need? Looking for volunteer opportunities with lasting impact? Have a heart to do local mission work? If so\, we have weekly\, monthly\, and occasional positions available in a variety of different areas. Whether you like working with people\, product\, or administration — we can use you! \nThose who serve with Love INC of Treasure Valley come from local Christian churches and agree with the Statement of Faith. \nIf you have questions\, call (208) 466-7810 ext. 303. \nSign Up For A Ministry Overview
URL:https://loveinctv.org/event/ministry-overview-for-prospective-new-volunteers-11/
LOCATION:Love INC of Treasure Valley\, 16470 N. Franklin Blvd\, Nampa\, Idaho\, 83687
ATTACH;FMTTYPE=image/jpeg:https://loveinctv.org/wp-content/uploads/2024/02/LoveINCTV_Events_Ministry-Overview.jpg
END:VEVENT
BEGIN:VEVENT
DTSTART;TZID=America/Boise:20240514T130000
DTEND;TZID=America/Boise:20240514T141500
DTSTAMP:20260425T223140
CREATED:20240328T175830Z
LAST-MODIFIED:20240328T175830Z
UID:1674-1715691600-1715696100@loveinctv.org
SUMMARY:Ministry Overview for Prospective New Volunteers
DESCRIPTION:﻿﻿﻿﻿﻿ \nWant to make a difference in your community by helping people in need? Looking for volunteer opportunities with lasting impact? Have a heart to do local mission work? If so\, we have weekly\, monthly\, and occasional positions available in a variety of different areas. Whether you like working with people\, product\, or administration — we can use you! \nThose who serve with Love INC of Treasure Valley come from local Christian churches and agree with the Statement of Faith. \nIf you have questions\, call (208) 466-7810 ext. 303. \nSign Up For A Ministry Overview
URL:https://loveinctv.org/event/ministry-overview-for-prospective-new-volunteers-13/
LOCATION:Love INC of Treasure Valley\, 16470 N. Franklin Blvd\, Nampa\, Idaho\, 83687
ATTACH;FMTTYPE=image/jpeg:https://loveinctv.org/wp-content/uploads/2024/02/LoveINCTV_Events_Ministry-Overview.jpg
END:VEVENT
BEGIN:VEVENT
DTSTART;TZID=America/Boise:20240509T100000
DTEND;TZID=America/Boise:20240509T111500
DTSTAMP:20260425T223140
CREATED:20240328T175759Z
LAST-MODIFIED:20240328T175759Z
UID:1672-1715248800-1715253300@loveinctv.org
SUMMARY:Ministry Overview for Prospective New Volunteers
DESCRIPTION:﻿﻿﻿﻿﻿ \nWant to make a difference in your community by helping people in need? Looking for volunteer opportunities with lasting impact? Have a heart to do local mission work? If so\, we have weekly\, monthly\, and occasional positions available in a variety of different areas. Whether you like working with people\, product\, or administration — we can use you! \nThose who serve with Love INC of Treasure Valley come from local Christian churches and agree with the Statement of Faith. \nIf you have questions\, call (208) 466-7810 ext. 303. \nSign Up For A Ministry Overview
URL:https://loveinctv.org/event/ministry-overview-for-prospective-new-volunteers-12/
LOCATION:Love INC of Treasure Valley\, 16470 N. Franklin Blvd\, Nampa\, Idaho\, 83687
ATTACH;FMTTYPE=image/jpeg:https://loveinctv.org/wp-content/uploads/2024/02/LoveINCTV_Events_Ministry-Overview.jpg
END:VEVENT
END:VCALENDAR