BEGIN:VCALENDAR
VERSION:2.0
PRODID:-//Love INC of Treasure Valley - ECPv6.15.15//NONSGML v1.0//EN
CALSCALE:GREGORIAN
METHOD:PUBLISH
X-ORIGINAL-URL:https://loveinctv.org
X-WR-CALDESC:Events for Love INC of Treasure Valley
REFRESH-INTERVAL;VALUE=DURATION:PT1H
X-Robots-Tag:noindex
X-PUBLISHED-TTL:PT1H
BEGIN:VTIMEZONE
TZID:America/Boise
BEGIN:DAYLIGHT
TZOFFSETFROM:-0700
TZOFFSETTO:-0600
TZNAME:MDT
DTSTART:20250309T090000
END:DAYLIGHT
BEGIN:STANDARD
TZOFFSETFROM:-0600
TZOFFSETTO:-0700
TZNAME:MST
DTSTART:20251102T080000
END:STANDARD
BEGIN:DAYLIGHT
TZOFFSETFROM:-0700
TZOFFSETTO:-0600
TZNAME:MDT
DTSTART:20260308T090000
END:DAYLIGHT
BEGIN:STANDARD
TZOFFSETFROM:-0600
TZOFFSETTO:-0700
TZNAME:MST
DTSTART:20261101T080000
END:STANDARD
BEGIN:DAYLIGHT
TZOFFSETFROM:-0700
TZOFFSETTO:-0600
TZNAME:MDT
DTSTART:20270314T090000
END:DAYLIGHT
BEGIN:STANDARD
TZOFFSETFROM:-0600
TZOFFSETTO:-0700
TZNAME:MST
DTSTART:20271107T080000
END:STANDARD
END:VTIMEZONE
BEGIN:VEVENT
DTSTART;TZID=America/Boise:20260522T100000
DTEND;TZID=America/Boise:20260522T160000
DTSTAMP:20260425T072026
CREATED:20260406T201154Z
LAST-MODIFIED:20260406T201154Z
UID:20764-1779444000-1779465600@loveinctv.org
SUMMARY:The Grace Place Sidewalk Sale
DESCRIPTION:Join us for big savings during our Sidewalk Sale weekend! \nFriday: 50% off all green-tagged itemsSaturday: 75% off all green-tagged items \nPlease Note: Due to limited space\, we are unable to accept donations on Sidewalk Sale weekends. Thank you for understanding!
URL:https://loveinctv.org/event/the-grace-place-sidewalk-sale-47/
LOCATION:The Grace Place Resale Shoppe\, 16436 N. Franklin Blvd\, Nampa\, ID\, 83687\, United States
ATTACH;FMTTYPE=image/jpeg:https://loveinctv.org/wp-content/uploads/2024/02/LoveINCTV_Events_The-Grace-Place-Sidewalk-Sale.jpg
END:VEVENT
BEGIN:VEVENT
DTSTART;TZID=America/Boise:20260523T100000
DTEND;TZID=America/Boise:20260523T140000
DTSTAMP:20260425T072026
CREATED:20260406T201223Z
LAST-MODIFIED:20260406T201223Z
UID:20766-1779530400-1779544800@loveinctv.org
SUMMARY:The Grace Place Sidewalk Sale
DESCRIPTION:Join us for big savings during our Sidewalk Sale weekend! \nFriday: 50% off all green-tagged itemsSaturday: 75% off all green-tagged items \nPlease Note: Due to limited space\, we are unable to accept donations on Sidewalk Sale weekends. Thank you for understanding!
URL:https://loveinctv.org/event/the-grace-place-sidewalk-sale-48/
LOCATION:The Grace Place Resale Shoppe\, 16436 N. Franklin Blvd\, Nampa\, ID\, 83687\, United States
ATTACH;FMTTYPE=image/jpeg:https://loveinctv.org/wp-content/uploads/2024/02/LoveINCTV_Events_The-Grace-Place-Sidewalk-Sale.jpg
END:VEVENT
BEGIN:VEVENT
DTSTART;VALUE=DATE:20260525
DTEND;VALUE=DATE:20260526
DTSTAMP:20260425T072026
CREATED:20260406T204505Z
LAST-MODIFIED:20260406T204505Z
UID:20768-1779667200-1779753599@loveinctv.org
SUMMARY:Memorial Day Holiday
DESCRIPTION:The Love INC Office\, The Grace Place\, and the Donation Center will be CLOSED for Memorial Day
URL:https://loveinctv.org/event/memorial-day-holiday-2/
LOCATION:Love INC of Treasure Valley\, 16470 N. Franklin Blvd\, Nampa\, Idaho\, 83687
ATTACH;FMTTYPE=image/jpeg:https://loveinctv.org/wp-content/uploads/2024/02/LoveINCTV_Events_Office-Closed.jpg
END:VEVENT
END:VCALENDAR