BEGIN:VCALENDAR
VERSION:2.0
PRODID:-//Love INC of Treasure Valley - ECPv6.15.15//NONSGML v1.0//EN
CALSCALE:GREGORIAN
METHOD:PUBLISH
X-WR-CALNAME:Love INC of Treasure Valley
X-ORIGINAL-URL:https://loveinctv.org
X-WR-CALDESC:Events for Love INC of Treasure Valley
REFRESH-INTERVAL;VALUE=DURATION:PT1H
X-Robots-Tag:noindex
X-PUBLISHED-TTL:PT1H
BEGIN:VTIMEZONE
TZID:America/Boise
BEGIN:DAYLIGHT
TZOFFSETFROM:-0700
TZOFFSETTO:-0600
TZNAME:MDT
DTSTART:20240310T090000
END:DAYLIGHT
BEGIN:STANDARD
TZOFFSETFROM:-0600
TZOFFSETTO:-0700
TZNAME:MST
DTSTART:20241103T080000
END:STANDARD
BEGIN:DAYLIGHT
TZOFFSETFROM:-0700
TZOFFSETTO:-0600
TZNAME:MDT
DTSTART:20250309T090000
END:DAYLIGHT
BEGIN:STANDARD
TZOFFSETFROM:-0600
TZOFFSETTO:-0700
TZNAME:MST
DTSTART:20251102T080000
END:STANDARD
BEGIN:DAYLIGHT
TZOFFSETFROM:-0700
TZOFFSETTO:-0600
TZNAME:MDT
DTSTART:20260308T090000
END:DAYLIGHT
BEGIN:STANDARD
TZOFFSETFROM:-0600
TZOFFSETTO:-0700
TZNAME:MST
DTSTART:20261101T080000
END:STANDARD
END:VTIMEZONE
BEGIN:VEVENT
DTSTART;TZID=America/Boise:20250607T100000
DTEND;TZID=America/Boise:20250607T111500
DTSTAMP:20260425T080454
CREATED:20250428T210909Z
LAST-MODIFIED:20250428T210909Z
UID:19610-1749290400-1749294900@loveinctv.org
SUMMARY:Ministry Overview
DESCRIPTION:Want to make a difference in your community by helping people in need? Looking for volunteer opportunities with lasting impact? Have a heart to do local mission work? If so\, we have weekly\, monthly\, and occasional positions available in a variety of different areas. Whether you like working with people\, product\, or administration — we can use you! \nThose who serve with Love INC of Treasure Valley come from local Christian churches and agree with the Statement of Faith. \nIf you have questions\, call (208) 466-7810 ext. 303. \nSign Up For A Ministry Overview
URL:https://loveinctv.org/event/ministry-overview-27/
LOCATION:Love INC of Treasure Valley\, 16470 N. Franklin Blvd\, Nampa\, Idaho\, 83687
ATTACH;FMTTYPE=image/jpeg:https://loveinctv.org/wp-content/uploads/2024/02/LoveINCTV_Events_Ministry-Overview.jpg
END:VEVENT
BEGIN:VEVENT
DTSTART;TZID=America/Boise:20250530T123000
DTEND;TZID=America/Boise:20250530T133000
DTSTAMP:20260425T080454
CREATED:20250401T161938Z
LAST-MODIFIED:20250514T162830Z
UID:19498-1748608200-1748611800@loveinctv.org
SUMMARY:Card Making Group
DESCRIPTION:Join our crafters each month to create beautiful\, handmade cards that are used in the ministry. All supplies are provided—just bring your creativity and enjoy a time of fellowship while making a difference!
URL:https://loveinctv.org/event/card-making-group-4th-friday-of-the-month-4/
LOCATION:ID
ATTACH;FMTTYPE=image/jpeg:https://loveinctv.org/wp-content/uploads/2025/02/AdobeStock_110402835.jpeg
END:VEVENT
BEGIN:VEVENT
DTSTART;TZID=America/Boise:20250529T190000
DTEND;TZID=America/Boise:20250529T200000
DTSTAMP:20260425T080454
CREATED:20250428T210249Z
LAST-MODIFIED:20250428T210249Z
UID:19606-1748545200-1748548800@loveinctv.org
SUMMARY:Celebration Night
DESCRIPTION:You’re invited to Celebration Night at the New Hope Program. Celebrate with us as New Hope graduates share their personal stories. Bring potential supporters or participants to experience what they can be a part of. \nFor more information\, call the Love INC office 208-466-7810 ext. 301
URL:https://loveinctv.org/event/celebration-night-6/
LOCATION:Crossroads Community Church\, 4170 E. Amity Ave\, Nampa\, ID\, 83687\, United States
ATTACH;FMTTYPE=image/jpeg:https://loveinctv.org/wp-content/uploads/2024/02/LoveINCTV_Events_Celebration-Night.jpg
END:VEVENT
BEGIN:VEVENT
DTSTART;VALUE=DATE:20250526
DTEND;VALUE=DATE:20250527
DTSTAMP:20260425T080454
CREATED:20250428T210624Z
LAST-MODIFIED:20250428T210624Z
UID:19608-1748217600-1748303999@loveinctv.org
SUMMARY:Memorial Day Holiday
DESCRIPTION:The Love INC Office will be CLOSED for Memorial Day. The Grace Place and the Donation Center will be OPEN their regular hours.
URL:https://loveinctv.org/event/memorial-day-holiday/
LOCATION:Love INC of Treasure Valley\, 16470 N. Franklin Blvd\, Nampa\, Idaho\, 83687
ATTACH;FMTTYPE=image/jpeg:https://loveinctv.org/wp-content/uploads/2024/02/LoveINCTV_Events_Office-Closed.jpg
END:VEVENT
BEGIN:VEVENT
DTSTART;TZID=America/Boise:20250522T100000
DTEND;TZID=America/Boise:20250522T111500
DTSTAMP:20260425T080454
CREATED:20250324T215110Z
LAST-MODIFIED:20250324T215110Z
UID:19468-1747908000-1747912500@loveinctv.org
SUMMARY:Ministry Overview
DESCRIPTION:Want to make a difference in your community by helping people in need? Looking for volunteer opportunities with lasting impact? Have a heart to do local mission work? If so\, we have weekly\, monthly\, and occasional positions available in a variety of different areas. Whether you like working with people\, product\, or administration — we can use you! \nThose who serve with Love INC of Treasure Valley come from local Christian churches and agree with the Statement of Faith. \nIf you have questions\, call (208) 466-7810 ext. 303. \nSign Up For A Ministry Overview
URL:https://loveinctv.org/event/ministry-overview-25/
LOCATION:Love INC of Treasure Valley\, 16470 N. Franklin Blvd\, Nampa\, Idaho\, 83687
ATTACH;FMTTYPE=image/jpeg:https://loveinctv.org/wp-content/uploads/2024/02/LoveINCTV_Events_Ministry-Overview.jpg
END:VEVENT
BEGIN:VEVENT
DTSTART;TZID=America/Boise:20250517T100000
DTEND;TZID=America/Boise:20250517T140000
DTSTAMP:20260425T080454
CREATED:20250313T202813Z
LAST-MODIFIED:20250313T202813Z
UID:19422-1747476000-1747490400@loveinctv.org
SUMMARY:The Grace Place Sidewalk Sale
DESCRIPTION:
URL:https://loveinctv.org/event/the-grace-place-sidewalk-sale-26/
LOCATION:The Grace Place Resale Shoppe\, 16436 N. Franklin Blvd\, Nampa\, ID\, 83687\, United States
ATTACH;FMTTYPE=image/jpeg:https://loveinctv.org/wp-content/uploads/2024/02/LoveINCTV_Events_The-Grace-Place-Sidewalk-Sale.jpg
END:VEVENT
BEGIN:VEVENT
DTSTART;TZID=America/Boise:20250516T100000
DTEND;TZID=America/Boise:20250516T160000
DTSTAMP:20260425T080454
CREATED:20250313T202746Z
LAST-MODIFIED:20250313T202746Z
UID:19420-1747389600-1747411200@loveinctv.org
SUMMARY:The Grace Place Sidewalk Sale
DESCRIPTION:
URL:https://loveinctv.org/event/the-grace-place-sidewalk-sale-25/
LOCATION:The Grace Place Resale Shoppe\, 16436 N. Franklin Blvd\, Nampa\, ID\, 83687\, United States
ATTACH;FMTTYPE=image/jpeg:https://loveinctv.org/wp-content/uploads/2024/02/LoveINCTV_Events_The-Grace-Place-Sidewalk-Sale.jpg
END:VEVENT
BEGIN:VEVENT
DTSTART;TZID=America/Boise:20250512T130000
DTEND;TZID=America/Boise:20250512T141500
DTSTAMP:20260425T080454
CREATED:20250324T215141Z
LAST-MODIFIED:20250324T215141Z
UID:19470-1747054800-1747059300@loveinctv.org
SUMMARY:Ministry Overview
DESCRIPTION:Want to make a difference in your community by helping people in need? Looking for volunteer opportunities with lasting impact? Have a heart to do local mission work? If so\, we have weekly\, monthly\, and occasional positions available in a variety of different areas. Whether you like working with people\, product\, or administration — we can use you! \nThose who serve with Love INC of Treasure Valley come from local Christian churches and agree with the Statement of Faith. \nIf you have questions\, call (208) 466-7810 ext. 303. \nSign Up For A Ministry Overview
URL:https://loveinctv.org/event/ministry-overview-26/
LOCATION:Love INC of Treasure Valley\, 16470 N. Franklin Blvd\, Nampa\, Idaho\, 83687
ATTACH;FMTTYPE=image/jpeg:https://loveinctv.org/wp-content/uploads/2024/02/LoveINCTV_Events_Ministry-Overview.jpg
END:VEVENT
BEGIN:VEVENT
DTSTART;TZID=America/Boise:20250503T100000
DTEND;TZID=America/Boise:20250503T111500
DTSTAMP:20260425T080454
CREATED:20250324T215031Z
LAST-MODIFIED:20250324T215031Z
UID:19466-1746266400-1746270900@loveinctv.org
SUMMARY:Ministry Overview
DESCRIPTION:Want to make a difference in your community by helping people in need? Looking for volunteer opportunities with lasting impact? Have a heart to do local mission work? If so\, we have weekly\, monthly\, and occasional positions available in a variety of different areas. Whether you like working with people\, product\, or administration — we can use you! \nThose who serve with Love INC of Treasure Valley come from local Christian churches and agree with the Statement of Faith. \nIf you have questions\, call (208) 466-7810 ext. 303. \nSign Up For A Ministry Overview
URL:https://loveinctv.org/event/ministry-overview-24/
LOCATION:Love INC of Treasure Valley\, 16470 N. Franklin Blvd\, Nampa\, Idaho\, 83687
ATTACH;FMTTYPE=image/jpeg:https://loveinctv.org/wp-content/uploads/2024/02/LoveINCTV_Events_Ministry-Overview.jpg
END:VEVENT
BEGIN:VEVENT
DTSTART;TZID=America/Boise:20250425T123000
DTEND;TZID=America/Boise:20250425T133000
DTSTAMP:20260425T080454
CREATED:20250401T161831Z
LAST-MODIFIED:20250401T162058Z
UID:19496-1745584200-1745587800@loveinctv.org
SUMMARY:Card Making Group - 4th Friday of the Month
DESCRIPTION:Join our crafters on the 4th Friday of each month to create beautiful\, handmade cards that bless those we serve. All supplies are provided—just bring your creativity and enjoy a time of fellowship while making a difference!
URL:https://loveinctv.org/event/card-making-group-4th-friday-of-the-month-3/
LOCATION:ID
ATTACH;FMTTYPE=image/jpeg:https://loveinctv.org/wp-content/uploads/2025/02/AdobeStock_110402835.jpeg
END:VEVENT
BEGIN:VEVENT
DTSTART;TZID=America/Boise:20250424T100000
DTEND;TZID=America/Boise:20250424T111500
DTSTAMP:20260425T080454
CREATED:20250313T194839Z
LAST-MODIFIED:20250313T194839Z
UID:19414-1745488800-1745493300@loveinctv.org
SUMMARY:Ministry Overview
DESCRIPTION:Want to make a difference in your community by helping people in need? Looking for volunteer opportunities with lasting impact? Have a heart to do local mission work? If so\, we have weekly\, monthly\, and occasional positions available in a variety of different areas. Whether you like working with people\, product\, or administration — we can use you! \nThose who serve with Love INC of Treasure Valley come from local Christian churches and agree with the Statement of Faith. \nIf you have questions\, call (208) 466-7810 ext. 303. \nSign Up For A Ministry Overview
URL:https://loveinctv.org/event/ministry-overview-23/
LOCATION:Love INC of Treasure Valley\, 16470 N. Franklin Blvd\, Nampa\, Idaho\, 83687
ATTACH;FMTTYPE=image/jpeg:https://loveinctv.org/wp-content/uploads/2024/02/LoveINCTV_Events_Ministry-Overview.jpg
END:VEVENT
BEGIN:VEVENT
DTSTART;VALUE=DATE:20250419
DTEND;VALUE=DATE:20250420
DTSTAMP:20260425T080454
CREATED:20250319T205716Z
LAST-MODIFIED:20250319T211622Z
UID:19451-1745020800-1745107199@loveinctv.org
SUMMARY:Holiday Closure - Easter
DESCRIPTION:The Love INC Office\, The Grace Place\, and Donation Center will be CLOSED on Saturday\, April 19\, in celebration of Easter. He is risen!
URL:https://loveinctv.org/event/closed-easter/
LOCATION:ID
ATTACH;FMTTYPE=image/jpeg:https://loveinctv.org/wp-content/uploads/2025/03/Easter-Closures.jpg
END:VEVENT
BEGIN:VEVENT
DTSTART;VALUE=DATE:20250418
DTEND;VALUE=DATE:20250419
DTSTAMP:20260425T080454
CREATED:20250319T205515Z
LAST-MODIFIED:20250319T205515Z
UID:19447-1744934400-1745020799@loveinctv.org
SUMMARY:Office Closed - Good Friday
DESCRIPTION:The Love INC Office will be CLOSED on Friday\, April 18. The Grace Place and Donation Center will be OPEN their regular hours so stop by and see us: Donation Center:  9am – 4pm\, The Grace Place: 10am – 5pm
URL:https://loveinctv.org/event/office-closed-good-friday/
LOCATION:ID
ATTACH;FMTTYPE=image/jpeg:https://loveinctv.org/wp-content/uploads/2025/03/Easter-Closures.jpg
END:VEVENT
BEGIN:VEVENT
DTSTART;TZID=America/Boise:20250412T100000
DTEND;TZID=America/Boise:20250412T140000
DTSTAMP:20260425T080454
CREATED:20250313T202710Z
LAST-MODIFIED:20250313T202710Z
UID:19418-1744452000-1744466400@loveinctv.org
SUMMARY:The Grace Place Sidewalk Sale
DESCRIPTION:
URL:https://loveinctv.org/event/the-grace-place-sidewalk-sale-24/
LOCATION:The Grace Place Resale Shoppe\, 16436 N. Franklin Blvd\, Nampa\, ID\, 83687\, United States
ATTACH;FMTTYPE=image/jpeg:https://loveinctv.org/wp-content/uploads/2024/02/LoveINCTV_Events_The-Grace-Place-Sidewalk-Sale.jpg
END:VEVENT
BEGIN:VEVENT
DTSTART;TZID=America/Boise:20250412T100000
DTEND;TZID=America/Boise:20250412T111500
DTSTAMP:20260425T080454
CREATED:20250313T194615Z
LAST-MODIFIED:20250313T194615Z
UID:19412-1744452000-1744456500@loveinctv.org
SUMMARY:Ministry Overview
DESCRIPTION:Want to make a difference in your community by helping people in need? Looking for volunteer opportunities with lasting impact? Have a heart to do local mission work? If so\, we have weekly\, monthly\, and occasional positions available in a variety of different areas. Whether you like working with people\, product\, or administration — we can use you! \nThose who serve with Love INC of Treasure Valley come from local Christian churches and agree with the Statement of Faith. \nIf you have questions\, call (208) 466-7810 ext. 303. \nSign Up For A Ministry Overview
URL:https://loveinctv.org/event/ministry-overview-22/
LOCATION:Love INC of Treasure Valley\, 16470 N. Franklin Blvd\, Nampa\, Idaho\, 83687
ATTACH;FMTTYPE=image/jpeg:https://loveinctv.org/wp-content/uploads/2024/02/LoveINCTV_Events_Ministry-Overview.jpg
END:VEVENT
BEGIN:VEVENT
DTSTART;TZID=America/Boise:20250411T100000
DTEND;TZID=America/Boise:20250411T160000
DTSTAMP:20260425T080454
CREATED:20250313T202627Z
LAST-MODIFIED:20250313T202627Z
UID:19416-1744365600-1744387200@loveinctv.org
SUMMARY:The Grace Place Sidewalk Sale
DESCRIPTION:
URL:https://loveinctv.org/event/the-grace-place-sidewalk-sale-23/
LOCATION:The Grace Place Resale Shoppe\, 16436 N. Franklin Blvd\, Nampa\, ID\, 83687\, United States
ATTACH;FMTTYPE=image/jpeg:https://loveinctv.org/wp-content/uploads/2024/02/LoveINCTV_Events_The-Grace-Place-Sidewalk-Sale.jpg
END:VEVENT
BEGIN:VEVENT
DTSTART;TZID=America/Boise:20250407T130000
DTEND;TZID=America/Boise:20250407T141500
DTSTAMP:20260425T080454
CREATED:20250313T194509Z
LAST-MODIFIED:20250313T194509Z
UID:19410-1744030800-1744035300@loveinctv.org
SUMMARY:Ministry Overview
DESCRIPTION:Want to make a difference in your community by helping people in need? Looking for volunteer opportunities with lasting impact? Have a heart to do local mission work? If so\, we have weekly\, monthly\, and occasional positions available in a variety of different areas. Whether you like working with people\, product\, or administration — we can use you! \nThose who serve with Love INC of Treasure Valley come from local Christian churches and agree with the Statement of Faith. \nIf you have questions\, call (208) 466-7810 ext. 303. \nSign Up For A Ministry Overview
URL:https://loveinctv.org/event/ministry-overview-21/
LOCATION:Love INC of Treasure Valley\, 16470 N. Franklin Blvd\, Nampa\, Idaho\, 83687
ATTACH;FMTTYPE=image/jpeg:https://loveinctv.org/wp-content/uploads/2024/02/LoveINCTV_Events_Ministry-Overview.jpg
END:VEVENT
BEGIN:VEVENT
DTSTART;TZID=America/Boise:20250328T123000
DTEND;TZID=America/Boise:20250328T133000
DTSTAMP:20260425T080454
CREATED:20250217T022727Z
LAST-MODIFIED:20250217T022727Z
UID:19298-1743165000-1743168600@loveinctv.org
SUMMARY:Card Making Group - 4th Friday of the Month
DESCRIPTION:Join our crafters on the 4th Friday of each month to create beautiful\, handmade cards that bless those we serve. All supplies are provided—just bring your creativity and enjoy a time of fellowship while making a difference!
URL:https://loveinctv.org/event/card-making-group-4th-friday-of-the-month-2/
LOCATION:ID
ATTACH;FMTTYPE=image/jpeg:https://loveinctv.org/wp-content/uploads/2025/02/AdobeStock_110402835.jpeg
END:VEVENT
BEGIN:VEVENT
DTSTART;TZID=America/Boise:20250327T100000
DTEND;TZID=America/Boise:20250327T111500
DTSTAMP:20260425T080454
CREATED:20250211T022758Z
LAST-MODIFIED:20250221T143841Z
UID:19274-1743069600-1743074100@loveinctv.org
SUMMARY:Ministry Overview
DESCRIPTION:﻿﻿﻿﻿﻿﻿﻿ \nWant to make a difference in your community by helping people in need? Looking for volunteer opportunities with lasting impact? Have a heart to do local mission work? If so\, we have weekly\, monthly\, and occasional positions available in a variety of different areas. Whether you like working with people\, product\, or administration — we can use you! \nThose who serve with Love INC of Treasure Valley come from local Christian churches and agree with the Statement of Faith. \nIf you have questions\, call (208) 466-7810 ext. 303. \nSign Up For A Ministry Overview
URL:https://loveinctv.org/event/ministry-overview-19/
LOCATION:Love INC of Treasure Valley\, 16470 N. Franklin Blvd\, Nampa\, Idaho\, 83687
ATTACH;FMTTYPE=image/jpeg:https://loveinctv.org/wp-content/uploads/2024/02/LoveINCTV_Events_Ministry-Overview.jpg
END:VEVENT
BEGIN:VEVENT
DTSTART;TZID=America/Boise:20250317T130000
DTEND;TZID=America/Boise:20250317T141500
DTSTAMP:20260425T080454
CREATED:20250211T022850Z
LAST-MODIFIED:20250219T201126Z
UID:19276-1742216400-1742220900@loveinctv.org
SUMMARY:Ministry Overview
DESCRIPTION:﻿﻿﻿﻿﻿﻿﻿ \nWant to make a difference in your community by helping people in need? Looking for volunteer opportunities with lasting impact? Have a heart to do local mission work? If so\, we have weekly\, monthly\, and occasional positions available in a variety of different areas. Whether you like working with people\, product\, or administration — we can use you! \nThose who serve with Love INC of Treasure Valley come from local Christian churches and agree with the Statement of Faith. \nIf you have questions\, call (208) 466-7810 ext. 303. \nSign Up For A Ministry Overview
URL:https://loveinctv.org/event/ministry-overview-20/
LOCATION:Love INC of Treasure Valley\, 16470 N. Franklin Blvd\, Nampa\, Idaho\, 83687
ATTACH;FMTTYPE=image/jpeg:https://loveinctv.org/wp-content/uploads/2024/02/LoveINCTV_Events_Ministry-Overview.jpg
END:VEVENT
BEGIN:VEVENT
DTSTART;TZID=America/Boise:20250315T100000
DTEND;TZID=America/Boise:20250315T140000
DTSTAMP:20260425T080454
CREATED:20250219T201312Z
LAST-MODIFIED:20250219T201312Z
UID:19316-1742032800-1742047200@loveinctv.org
SUMMARY:The Grace Place Sidewalk Sale
DESCRIPTION:
URL:https://loveinctv.org/event/the-grace-place-sidewalk-sale-22/
LOCATION:The Grace Place Resale Shoppe\, 16436 N. Franklin Blvd\, Nampa\, ID\, 83687\, United States
ATTACH;FMTTYPE=image/jpeg:https://loveinctv.org/wp-content/uploads/2024/02/LoveINCTV_Events_The-Grace-Place-Sidewalk-Sale.jpg
END:VEVENT
BEGIN:VEVENT
DTSTART;TZID=America/Boise:20250314T100000
DTEND;TZID=America/Boise:20250314T160000
DTSTAMP:20260425T080454
CREATED:20250211T022346Z
LAST-MODIFIED:20250211T022346Z
UID:19264-1741946400-1741968000@loveinctv.org
SUMMARY:The Grace Place Sidewalk Sale
DESCRIPTION:
URL:https://loveinctv.org/event/the-grace-place-sidewalk-sale-21/
LOCATION:The Grace Place Resale Shoppe\, 16436 N. Franklin Blvd\, Nampa\, ID\, 83687\, United States
ATTACH;FMTTYPE=image/jpeg:https://loveinctv.org/wp-content/uploads/2024/02/LoveINCTV_Events_The-Grace-Place-Sidewalk-Sale.jpg
END:VEVENT
BEGIN:VEVENT
DTSTART;TZID=America/Boise:20250308T100000
DTEND;TZID=America/Boise:20250308T111500
DTSTAMP:20260425T080454
CREATED:20250211T022730Z
LAST-MODIFIED:20250211T022730Z
UID:19272-1741428000-1741432500@loveinctv.org
SUMMARY:Ministry Overview
DESCRIPTION:﻿﻿﻿﻿﻿﻿﻿ \nWant to make a difference in your community by helping people in need? Looking for volunteer opportunities with lasting impact? Have a heart to do local mission work? If so\, we have weekly\, monthly\, and occasional positions available in a variety of different areas. Whether you like working with people\, product\, or administration — we can use you! \nThose who serve with Love INC of Treasure Valley come from local Christian churches and agree with the Statement of Faith. \nIf you have questions\, call (208) 466-7810 ext. 303. \nSign Up For A Ministry Overview
URL:https://loveinctv.org/event/ministry-overview-18/
LOCATION:Love INC of Treasure Valley\, 16470 N. Franklin Blvd\, Nampa\, Idaho\, 83687
ATTACH;FMTTYPE=image/jpeg:https://loveinctv.org/wp-content/uploads/2024/02/LoveINCTV_Events_Ministry-Overview.jpg
END:VEVENT
BEGIN:VEVENT
DTSTART;TZID=America/Boise:20250228T123000
DTEND;TZID=America/Boise:20250228T133000
DTSTAMP:20260425T080454
CREATED:20250217T022707Z
LAST-MODIFIED:20250217T022707Z
UID:19295-1740745800-1740749400@loveinctv.org
SUMMARY:Card Making Group - 4th Friday of the Month
DESCRIPTION:Join our crafters on the 4th Friday of each month to create beautiful\, handmade cards that bless those we serve. All supplies are provided—just bring your creativity and enjoy a time of fellowship while making a difference!
URL:https://loveinctv.org/event/card-making-group-4th-friday-of-the-month/
LOCATION:ID
ATTACH;FMTTYPE=image/jpeg:https://loveinctv.org/wp-content/uploads/2025/02/AdobeStock_110402835.jpeg
END:VEVENT
BEGIN:VEVENT
DTSTART;TZID=America/Boise:20250222T100000
DTEND;TZID=America/Boise:20250222T111500
DTSTAMP:20260425T080454
CREATED:20250211T022638Z
LAST-MODIFIED:20250211T022638Z
UID:19270-1740218400-1740222900@loveinctv.org
SUMMARY:Ministry Overview
DESCRIPTION:﻿﻿﻿﻿﻿﻿﻿ \nWant to make a difference in your community by helping people in need? Looking for volunteer opportunities with lasting impact? Have a heart to do local mission work? If so\, we have weekly\, monthly\, and occasional positions available in a variety of different areas. Whether you like working with people\, product\, or administration — we can use you! \nThose who serve with Love INC of Treasure Valley come from local Christian churches and agree with the Statement of Faith. \nIf you have questions\, call (208) 466-7810 ext. 303. \nSign Up For A Ministry Overview
URL:https://loveinctv.org/event/ministry-overview-17/
LOCATION:Love INC of Treasure Valley\, 16470 N. Franklin Blvd\, Nampa\, Idaho\, 83687
ATTACH;FMTTYPE=image/jpeg:https://loveinctv.org/wp-content/uploads/2024/02/LoveINCTV_Events_Ministry-Overview.jpg
END:VEVENT
BEGIN:VEVENT
DTSTART;VALUE=DATE:20250217
DTEND;VALUE=DATE:20250218
DTSTAMP:20260425T080454
CREATED:20250211T025627Z
LAST-MODIFIED:20250211T025627Z
UID:19278-1739750400-1739836799@loveinctv.org
SUMMARY:Office Closed - Presidents' Day
DESCRIPTION:The Love INC Office will be CLOSED on Monday\, February 17. The Grace Place and Donation Center will be OPEN their regular hours so stop by and see us: Donation Center:  9am – 4pm\, The Grace Place: 10am – 5pm
URL:https://loveinctv.org/event/office-closed-presidents-day/
LOCATION:ID
ATTACH;FMTTYPE=image/jpeg:https://loveinctv.org/wp-content/uploads/2025/02/AdobeStock_404623259.jpeg
END:VEVENT
BEGIN:VEVENT
DTSTART;TZID=America/Boise:20250215T100000
DTEND;TZID=America/Boise:20250215T140000
DTSTAMP:20260425T080454
CREATED:20250211T022313Z
LAST-MODIFIED:20250211T022430Z
UID:19262-1739613600-1739628000@loveinctv.org
SUMMARY:The Grace Place Sidewalk Sale
DESCRIPTION:
URL:https://loveinctv.org/event/the-grace-place-sidewalk-sale-20/
LOCATION:The Grace Place Resale Shoppe\, 16436 N. Franklin Blvd\, Nampa\, ID\, 83687\, United States
ATTACH;FMTTYPE=image/jpeg:https://loveinctv.org/wp-content/uploads/2024/02/LoveINCTV_Events_The-Grace-Place-Sidewalk-Sale.jpg
END:VEVENT
BEGIN:VEVENT
DTSTART;TZID=America/Boise:20250214T100000
DTEND;TZID=America/Boise:20250214T160000
DTSTAMP:20260425T080454
CREATED:20250211T022225Z
LAST-MODIFIED:20250211T022416Z
UID:19260-1739527200-1739548800@loveinctv.org
SUMMARY:The Grace Place Sidewalk Sale
DESCRIPTION:
URL:https://loveinctv.org/event/the-grace-place-sidewalk-sale-19/
LOCATION:The Grace Place Resale Shoppe\, 16436 N. Franklin Blvd\, Nampa\, ID\, 83687\, United States
ATTACH;FMTTYPE=image/jpeg:https://loveinctv.org/wp-content/uploads/2024/02/LoveINCTV_Events_The-Grace-Place-Sidewalk-Sale.jpg
END:VEVENT
BEGIN:VEVENT
DTSTART;TZID=America/Boise:20250213T100000
DTEND;TZID=America/Boise:20250213T111500
DTSTAMP:20260425T080454
CREATED:20250211T022615Z
LAST-MODIFIED:20250211T022615Z
UID:19267-1739440800-1739445300@loveinctv.org
SUMMARY:Ministry Overview
DESCRIPTION:﻿﻿﻿﻿﻿﻿﻿ \nWant to make a difference in your community by helping people in need? Looking for volunteer opportunities with lasting impact? Have a heart to do local mission work? If so\, we have weekly\, monthly\, and occasional positions available in a variety of different areas. Whether you like working with people\, product\, or administration — we can use you! \nThose who serve with Love INC of Treasure Valley come from local Christian churches and agree with the Statement of Faith. \nIf you have questions\, call (208) 466-7810 ext. 303. \nSign Up For A Ministry Overview
URL:https://loveinctv.org/event/ministry-overview-16/
LOCATION:Love INC of Treasure Valley\, 16470 N. Franklin Blvd\, Nampa\, Idaho\, 83687
ATTACH;FMTTYPE=image/jpeg:https://loveinctv.org/wp-content/uploads/2024/02/LoveINCTV_Events_Ministry-Overview.jpg
END:VEVENT
BEGIN:VEVENT
DTSTART;TZID=America/Boise:20250130T190000
DTEND;TZID=America/Boise:20250130T200000
DTSTAMP:20260425T080454
CREATED:20241118T173525Z
LAST-MODIFIED:20241118T173525Z
UID:18876-1738263600-1738267200@loveinctv.org
SUMMARY:Celebration Night
DESCRIPTION:You’re invited to Celebration Night at the New Hope Program. Celebrate with us as New Hope graduates share their personal stories. Bring potential supporters or participants to experience what they can be a part of. \nFor more information\, call the Love INC office 208-466-7810 ext. 301
URL:https://loveinctv.org/event/celebration-night-5/
LOCATION:Crossroads Community Church\, 4170 E. Amity Ave\, Nampa\, ID\, 83687\, United States
ATTACH;FMTTYPE=image/jpeg:https://loveinctv.org/wp-content/uploads/2024/02/LoveINCTV_Events_Celebration-Night.jpg
END:VEVENT
END:VCALENDAR