BEGIN:VCALENDAR
VERSION:2.0
PRODID:-//Love INC of Treasure Valley - ECPv6.15.15//NONSGML v1.0//EN
CALSCALE:GREGORIAN
METHOD:PUBLISH
X-WR-CALNAME:Love INC of Treasure Valley
X-ORIGINAL-URL:https://loveinctv.org
X-WR-CALDESC:Events for Love INC of Treasure Valley
REFRESH-INTERVAL;VALUE=DURATION:PT1H
X-Robots-Tag:noindex
X-PUBLISHED-TTL:PT1H
BEGIN:VTIMEZONE
TZID:America/Boise
BEGIN:DAYLIGHT
TZOFFSETFROM:-0700
TZOFFSETTO:-0600
TZNAME:MDT
DTSTART:20240310T090000
END:DAYLIGHT
BEGIN:STANDARD
TZOFFSETFROM:-0600
TZOFFSETTO:-0700
TZNAME:MST
DTSTART:20241103T080000
END:STANDARD
BEGIN:DAYLIGHT
TZOFFSETFROM:-0700
TZOFFSETTO:-0600
TZNAME:MDT
DTSTART:20250309T090000
END:DAYLIGHT
BEGIN:STANDARD
TZOFFSETFROM:-0600
TZOFFSETTO:-0700
TZNAME:MST
DTSTART:20251102T080000
END:STANDARD
BEGIN:DAYLIGHT
TZOFFSETFROM:-0700
TZOFFSETTO:-0600
TZNAME:MDT
DTSTART:20260308T090000
END:DAYLIGHT
BEGIN:STANDARD
TZOFFSETFROM:-0600
TZOFFSETTO:-0700
TZNAME:MST
DTSTART:20261101T080000
END:STANDARD
END:VTIMEZONE
BEGIN:VEVENT
DTSTART;TZID=America/Boise:20251201T130000
DTEND;TZID=America/Boise:20251201T141500
DTSTAMP:20260424T163659
CREATED:20251022T162159Z
LAST-MODIFIED:20251022T162159Z
UID:20209-1764594000-1764598500@loveinctv.org
SUMMARY:Ministry Overview
DESCRIPTION:Want to make a difference in your community by helping people in need? Looking for volunteer opportunities with lasting impact? Have a heart to do local mission work? If so\, we have weekly\, monthly\, and occasional positions available in a variety of different areas. Whether you like working with people\, product\, or administration — we can use you! \nThose who serve with Love INC of Treasure Valley come from local Christian churches and agree with the Statement of Faith. \nIf you have questions\, call (208) 466-7810 ext. 303. \nSign Up For A Ministry Overview
URL:https://loveinctv.org/event/ministry-overview-42/
LOCATION:Love INC of Treasure Valley\, 16470 N. Franklin Blvd\, Nampa\, Idaho\, 83687
ATTACH;FMTTYPE=image/jpeg:https://loveinctv.org/wp-content/uploads/2024/02/LoveINCTV_Events_Ministry-Overview.jpg
END:VEVENT
BEGIN:VEVENT
DTSTART;TZID=America/Boise:20251205T100000
DTEND;TZID=America/Boise:20251205T160000
DTSTAMP:20260424T163659
CREATED:20250917T212038Z
LAST-MODIFIED:20250917T212038Z
UID:20098-1764928800-1764950400@loveinctv.org
SUMMARY:The Grace Place Sidewalk Sale
DESCRIPTION:Join us for big savings during our Sidewalk Sale weekend! \nFriday: 50% off all green-tagged itemsSaturday: 75% off all green-tagged items \nPlease Note: Due to limited space\, we are unable to accept donations on Sidewalk Sale weekends. Thank you for understanding!
URL:https://loveinctv.org/event/the-grace-place-sidewalk-sale-37/
LOCATION:The Grace Place Resale Shoppe\, 16436 N. Franklin Blvd\, Nampa\, ID\, 83687\, United States
ATTACH;FMTTYPE=image/jpeg:https://loveinctv.org/wp-content/uploads/2024/02/LoveINCTV_Events_The-Grace-Place-Sidewalk-Sale.jpg
END:VEVENT
BEGIN:VEVENT
DTSTART;TZID=America/Boise:20251206T100000
DTEND;TZID=America/Boise:20251206T140000
DTSTAMP:20260424T163659
CREATED:20250917T212052Z
LAST-MODIFIED:20250917T212052Z
UID:20099-1765015200-1765029600@loveinctv.org
SUMMARY:The Grace Place Sidewalk Sale
DESCRIPTION:Join us for big savings during our Sidewalk Sale weekend! \nFriday: 50% off all green-tagged itemsSaturday: 75% off all green-tagged items \nPlease Note: Due to limited space\, we are unable to accept donations on Sidewalk Sale weekends. Thank you for understanding!
URL:https://loveinctv.org/event/the-grace-place-sidewalk-sale-38/
LOCATION:The Grace Place Resale Shoppe\, 16436 N. Franklin Blvd\, Nampa\, ID\, 83687\, United States
ATTACH;FMTTYPE=image/jpeg:https://loveinctv.org/wp-content/uploads/2024/02/LoveINCTV_Events_The-Grace-Place-Sidewalk-Sale.jpg
END:VEVENT
BEGIN:VEVENT
DTSTART;TZID=America/Boise:20251211T100000
DTEND;TZID=America/Boise:20251211T111500
DTSTAMP:20260424T163659
CREATED:20251022T162600Z
LAST-MODIFIED:20251022T162600Z
UID:20215-1765447200-1765451700@loveinctv.org
SUMMARY:Ministry Overview
DESCRIPTION:Want to make a difference in your community by helping people in need? Looking for volunteer opportunities with lasting impact? Have a heart to do local mission work? If so\, we have weekly\, monthly\, and occasional positions available in a variety of different areas. Whether you like working with people\, product\, or administration — we can use you! \nThose who serve with Love INC of Treasure Valley come from local Christian churches and agree with the Statement of Faith. \nIf you have questions\, call (208) 466-7810 ext. 303. \nSign Up For A Ministry Overview
URL:https://loveinctv.org/event/ministry-overview-45/
LOCATION:Love INC of Treasure Valley\, 16470 N. Franklin Blvd\, Nampa\, Idaho\, 83687
ATTACH;FMTTYPE=image/jpeg:https://loveinctv.org/wp-content/uploads/2024/02/LoveINCTV_Events_Ministry-Overview.jpg
END:VEVENT
BEGIN:VEVENT
DTSTART;TZID=America/Boise:20251212T123000
DTEND;TZID=America/Boise:20251212T140000
DTSTAMP:20260424T163659
CREATED:20251112T193024Z
LAST-MODIFIED:20251112T193024Z
UID:20304-1765542600-1765548000@loveinctv.org
SUMMARY:Card Making Group
DESCRIPTION:Join our crafters each month to create beautiful\, handmade cards that are used in the ministry. All supplies are provided—just bring your creativity and enjoy a time of fellowship while making a difference!
URL:https://loveinctv.org/event/card-making-group-3/
LOCATION:Love INC of Treasure Valley\, 16470 N. Franklin Blvd\, Nampa\, Idaho\, 83687
ATTACH;FMTTYPE=image/jpeg:https://loveinctv.org/wp-content/uploads/2025/02/AdobeStock_110402835.jpeg
END:VEVENT
BEGIN:VEVENT
DTSTART;TZID=America/Boise:20251213T100000
DTEND;TZID=America/Boise:20251213T111500
DTSTAMP:20260424T163659
CREATED:20251022T162625Z
LAST-MODIFIED:20251022T162625Z
UID:20217-1765620000-1765624500@loveinctv.org
SUMMARY:Ministry Overview
DESCRIPTION:Want to make a difference in your community by helping people in need? Looking for volunteer opportunities with lasting impact? Have a heart to do local mission work? If so\, we have weekly\, monthly\, and occasional positions available in a variety of different areas. Whether you like working with people\, product\, or administration — we can use you! \nThose who serve with Love INC of Treasure Valley come from local Christian churches and agree with the Statement of Faith. \nIf you have questions\, call (208) 466-7810 ext. 303. \nSign Up For A Ministry Overview
URL:https://loveinctv.org/event/ministry-overview-46/
LOCATION:Love INC of Treasure Valley\, 16470 N. Franklin Blvd\, Nampa\, Idaho\, 83687
ATTACH;FMTTYPE=image/jpeg:https://loveinctv.org/wp-content/uploads/2024/02/LoveINCTV_Events_Ministry-Overview.jpg
END:VEVENT
BEGIN:VEVENT
DTSTART;VALUE=DATE:20251224
DTEND;VALUE=DATE:20251226
DTSTAMP:20260424T163659
CREATED:20251029T192433Z
LAST-MODIFIED:20251029T192433Z
UID:20239-1766534400-1766707199@loveinctv.org
SUMMARY:Closure
DESCRIPTION:The Office\, Donation Center\, and The Grace Place will be closed for Christmas.
URL:https://loveinctv.org/event/closure-7/
LOCATION:Love INC of Treasure Valley\, 16470 N. Franklin Blvd\, Nampa\, Idaho\, 83687
ATTACH;FMTTYPE=image/png:https://loveinctv.org/wp-content/uploads/2024/11/Christmas-Closure.png
END:VEVENT
END:VCALENDAR